|SUCCESS| pw154863-154879 [PATCH] [V4,18/18] drivers/net: add hinic3

dpdklab at iol.unh.edu dpdklab at iol.unh.edu
Tue Jul 1 20:52:36 CEST 2025


Test-Label: iol-compile-arm64-testing
Test-Status: SUCCESS
http://dpdk.org/patch/154879

_Testing PASS_

Submitter: Feifei Wang <wff_light at vip.163.com>
Date: Tuesday, July 01 2025 01:42:09 
DPDK git baseline: Repo:dpdk
  Branch: master
  CommitID:77864da82f25a9e1e43c14b2cba68c2049a3ee3e

154863-154879 --> testing pass

Upstream job id: Generic-DPDK-Compile-Meson#404216

Test environment and result as below:

+------------------------------+--------------------+
|         Environment          | dpdk_meson_compile |
+==============================+====================+
| Red Hat Enterprise Linux 9.5 | PASS               |
+------------------------------+--------------------+
| Ubuntu 20.04                 | PASS               |
+------------------------------+--------------------+
| Debian GNU/Linux 12          | PASS               |
+------------------------------+--------------------+
| Fedora Linux 40              | PASS               |
+------------------------------+--------------------+
| Fedora Linux 41              | PASS               |
+------------------------------+--------------------+
| Ubuntu 22.04                 | PASS               |
+------------------------------+--------------------+
| Ubuntu 24.04                 | PASS               |
+------------------------------+--------------------+
| CentOS Stream 9              | PASS               |
+------------------------------+--------------------+
| CentOS Stream 10             | PASS               |
+------------------------------+--------------------+


Red Hat Enterprise Linux 9.5
	Kernel: 5.4
	Compiler: gcc gcc (GCC) 11.5.0 20240719 (Red Hat 11.5.0-2)

Ubuntu 20.04
	Kernel: 5.15
	Compiler: aarch64-linux-gnu-gcc gcc (Ubuntu 9.4.0-1ubuntu1~20.04.2) 9.4.0

Debian GNU/Linux 12
	Kernel: 5.4
	Compiler: gcc gcc (Debian 12.2.0-14+deb12u1) 12.2.0

Fedora Linux 40
	Kernel: 5.4
	Compiler: gcc gcc (GCC) 14.2.1 20240912 (Red Hat 14.2.1-3)

Fedora Linux 41
	Kernel: 5.4
	Compiler: clang gcc (GCC) 14.3.1 20250523 (Red Hat 14.3.1-1)

Ubuntu 22.04
	Kernel: 5.4
	Compiler: gcc gcc (Ubuntu 11.4.0-1ubuntu1~22.04) 11.4.0

Ubuntu 24.04
	Kernel: 5.4
	Compiler: gcc gcc (Ubuntu 13.3.0-6ubuntu2~24.04) 13.3.0

CentOS Stream 9
	Kernel: 5.4
	Compiler: gcc gcc (GCC) 11.5.0 20240719 (Red Hat 11.5.0-7)

CentOS Stream 10
	Kernel: 5.4
	Compiler: gcc gcc (GCC) 14.2.1 20250110 (Red Hat 14.2.1-8)

To view detailed results, visit:
https://lab.dpdk.org/results/dashboard/patchsets/33548/

UNH-IOL DPDK Community Lab

To manage your email subscriptions, visit: 
https://lab.dpdk.org/results/dashboard/preferences/subscriptions/


More information about the test-report mailing list