|SUCCESS| pw154903 [PATCH] ci: check C++ headers with clang

dpdklab at iol.unh.edu dpdklab at iol.unh.edu
Tue Jul 1 21:53:02 CEST 2025


Test-Label: iol-compile-amd64-testing
Test-Status: SUCCESS
http://dpdk.org/patch/154903

_Testing PASS_

Submitter: David Marchand <david.marchand at redhat.com>
Date: Tuesday, July 01 2025 11:31:46 
DPDK git baseline: Repo:dpdk
  Branch: master
  CommitID:20460dcffd08a4680f881c39916ae783ee830374

154903 --> testing pass

Upstream job id: Windows-Compile-DPDK-Native#29485

Test environment and result as below:

+---------------------+--------------------+-------------------+-------------------------+
|     Environment     | dpdk_meson_compile | dpdk_msvc_compile | dpdk_llvm_clang_compile |
+=====================+====================+===================+=========================+
| Ubuntu 20.04        | PASS               | SKIPPED           | SKIPPED                 |
+---------------------+--------------------+-------------------+-------------------------+
| FreeBSD 14.2        | PASS               | SKIPPED           | SKIPPED                 |
+---------------------+--------------------+-------------------+-------------------------+
| Windows Server 2022 | SKIPPED            | PASS              | PASS                    |
+---------------------+--------------------+-------------------+-------------------------+


Ubuntu 20.04
	Kernel: 4.19
	Compiler: gcc gcc (Ubuntu 9.4.0-1ubuntu1~20.04.2) 9.4.0

FreeBSD 14.2
	Kernel: 14.2-RELEASE
	Compiler: clang 18.1.6

Windows Server 2022
	Kernel: 10.0.20348.2031
	Compiler: clang 15.0.7, gcc 14.1.0 (MinGW), and MSVC VS 19.39.33521

To view detailed results, visit:
https://lab.dpdk.org/results/dashboard/patchsets/33554/

UNH-IOL DPDK Community Lab

To manage your email subscriptions, visit: 
https://lab.dpdk.org/results/dashboard/preferences/subscriptions/


More information about the test-report mailing list