|SUCCESS| pw154966 [PATCH] net/mlx5: fix crash when using meter in t

dpdklab at iol.unh.edu dpdklab at iol.unh.edu
Wed Jul 2 19:26:23 CEST 2025


Test-Label: iol-unit-arm64-testing
Test-Status: SUCCESS
http://dpdk.org/patch/154966

_Testing PASS_

Submitter: Khadem Ullah <14pwcse1224 at uetpeshawar.edu.pk>
Date: Wednesday, July 02 2025 12:36:17 
DPDK git baseline: Repo:dpdk
  Branch: master
  CommitID:5c0c1a13c34aa57c6e18f9ba852a9b5807c58b72

154966 --> testing pass

Upstream job id: Generic-Unit-Test-DPDK#351803

Test environment and result as below:

+------------------------------+------------------------------+--------------+---------------------------+----------------+
|         Environment          | cryptodev_sw_snow3g_autotest | lpm_autotest | cryptodev_sw_zuc_autotest | dpdk_unit_test |
+==============================+==============================+==============+===========================+================+
| Debian 12 (arm)              | PASS                         | SKIPPED      | PASS                      | SKIPPED        |
+------------------------------+------------------------------+--------------+---------------------------+----------------+
| Ubuntu 20.04                 | SKIPPED                      | PASS         | SKIPPED                   | PASS           |
+------------------------------+------------------------------+--------------+---------------------------+----------------+
| CentOS Stream 9              | SKIPPED                      | SKIPPED      | SKIPPED                   | PASS           |
+------------------------------+------------------------------+--------------+---------------------------+----------------+
| CentOS Stream 10             | SKIPPED                      | SKIPPED      | SKIPPED                   | PASS           |
+------------------------------+------------------------------+--------------+---------------------------+----------------+
| Debian GNU/Linux 12          | SKIPPED                      | SKIPPED      | SKIPPED                   | PASS           |
+------------------------------+------------------------------+--------------+---------------------------+----------------+
| Fedora Linux 40              | SKIPPED                      | SKIPPED      | SKIPPED                   | PASS           |
+------------------------------+------------------------------+--------------+---------------------------+----------------+
| Fedora Linux 41              | SKIPPED                      | SKIPPED      | SKIPPED                   | PASS           |
+------------------------------+------------------------------+--------------+---------------------------+----------------+
| Red Hat Enterprise Linux 9.5 | SKIPPED                      | SKIPPED      | SKIPPED                   | PASS           |
+------------------------------+------------------------------+--------------+---------------------------+----------------+
| Ubuntu 22.04                 | SKIPPED                      | SKIPPED      | SKIPPED                   | PASS           |
+------------------------------+------------------------------+--------------+---------------------------+----------------+
| Ubuntu 24.04                 | SKIPPED                      | SKIPPED      | SKIPPED                   | PASS           |
+------------------------------+------------------------------+--------------+---------------------------+----------------+


Debian 12 (arm)
	Kernel: Depends on container host
	Compiler: gcc (Debian 12.2.0-14) 12.2.0

Ubuntu 20.04
	Kernel: 5.4
	Compiler: gcc gcc (Ubuntu 9.4.0-1ubuntu1~20.04.2) 9.4.0

CentOS Stream 9
	Kernel: 5.4
	Compiler: gcc gcc (GCC) 11.5.0 20240719 (Red Hat 11.5.0-7)

CentOS Stream 10
	Kernel: 5.4
	Compiler: gcc gcc (GCC) 14.2.1 20250110 (Red Hat 14.2.1-8)

Debian GNU/Linux 12
	Kernel: 5.4
	Compiler: gcc gcc (Debian 12.2.0-14+deb12u1) 12.2.0

Fedora Linux 40
	Kernel: 5.4
	Compiler: clang gcc (GCC) 14.2.1 20240912 (Red Hat 14.2.1-3)

Fedora Linux 41
	Kernel: 5.4
	Compiler: clang gcc (GCC) 14.3.1 20250523 (Red Hat 14.3.1-1)

Red Hat Enterprise Linux 9.5
	Kernel: 5.4
	Compiler: gcc gcc (GCC) 11.5.0 20240719 (Red Hat 11.5.0-2)

Ubuntu 22.04
	Kernel: 5.4
	Compiler: gcc gcc (Ubuntu 11.4.0-1ubuntu1~22.04) 11.4.0

Ubuntu 24.04
	Kernel: 5.4
	Compiler: gcc gcc (Ubuntu 13.3.0-6ubuntu2~24.04) 13.3.0

To view detailed results, visit:
https://lab.dpdk.org/results/dashboard/patchsets/33567/

UNH-IOL DPDK Community Lab

To manage your email subscriptions, visit: 
https://lab.dpdk.org/results/dashboard/preferences/subscriptions/


More information about the test-report mailing list