|SUCCESS| pw154914 [PATCH] [v3] test/argparse: change initialization

dpdklab at iol.unh.edu dpdklab at iol.unh.edu
Thu Jul 3 04:03:52 CEST 2025


Test-Label: iol-compile-amd64-testing
Test-Status: SUCCESS
http://dpdk.org/patch/154914

_Testing PASS_

Submitter: Stephen Hemminger <stephen at networkplumber.org>
Date: Tuesday, July 01 2025 15:41:46 
DPDK git baseline: Repo:dpdk
  Branch: master
  CommitID:bd546772e1449ccc0789db338cc398815fa2636d

154914 --> testing pass

Upstream job id: Windows-Compile-DPDK-Native#29530

Test environment and result as below:

+---------------------+-------------------------+-------------------+----------------------+
|     Environment     | dpdk_llvm_clang_compile | dpdk_msvc_compile | dpdk_mingw64_compile |
+=====================+=========================+===================+======================+
| Windows Server 2022 | PASS                    | PASS              | PASS                 |
+---------------------+-------------------------+-------------------+----------------------+


Windows Server 2022
	Kernel: 10.0.20348.2031
	Compiler: clang 15.0.7, gcc 14.1.0 (MinGW), and MSVC VS 19.39.33521

To view detailed results, visit:
https://lab.dpdk.org/results/dashboard/patchsets/33557/

UNH-IOL DPDK Community Lab

To manage your email subscriptions, visit: 
https://lab.dpdk.org/results/dashboard/preferences/subscriptions/


More information about the test-report mailing list