|SUCCESS| pw155005 [PATCH] net/mlx5: fix decreasing the reference co
dpdklab at iol.unh.edu
dpdklab at iol.unh.edu
Thu Jul 3 18:27:28 CEST 2025
Test-Label: iol-compile-amd64-testing
Test-Status: SUCCESS
http://dpdk.org/patch/155005
_Testing PASS_
Submitter: Bing Zhao <bingz at nvidia.com>
Date: Thursday, July 03 2025 15:02:52
DPDK git baseline: Repo:dpdk
Branch: master
CommitID:8a59ec1fe088cc2998b4376808dc7728d4e31946
155005 --> testing pass
Upstream job id: Windows-Compile-DPDK-Native#29542
Test environment and result as below:
+---------------------+--------------------+-------------------+-------------------------+
| Environment | dpdk_meson_compile | dpdk_msvc_compile | dpdk_llvm_clang_compile |
+=====================+====================+===================+=========================+
| Ubuntu 20.04 | PASS | SKIPPED | SKIPPED |
+---------------------+--------------------+-------------------+-------------------------+
| Windows Server 2022 | SKIPPED | PASS | PASS |
+---------------------+--------------------+-------------------+-------------------------+
Ubuntu 20.04
Kernel: 4.19
Compiler: gcc gcc (Ubuntu 9.4.0-1ubuntu1~20.04.2) 9.4.0
Windows Server 2022
Kernel: 10.0.20348.2031
Compiler: clang 15.0.7, gcc 14.1.0 (MinGW), and MSVC VS 19.39.33521
To view detailed results, visit:
https://lab.dpdk.org/results/dashboard/patchsets/33588/
UNH-IOL DPDK Community Lab
To manage your email subscriptions, visit:
https://lab.dpdk.org/results/dashboard/preferences/subscriptions/
More information about the test-report
mailing list