|SUCCESS| pw154914 [PATCH] [v3] test/argparse: change initialization
dpdklab at iol.unh.edu
dpdklab at iol.unh.edu
Fri Jul 4 03:48:42 CEST 2025
Test-Label: iol-compile-amd64-testing
Test-Status: SUCCESS
http://dpdk.org/patch/154914
_Testing PASS_
Submitter: Stephen Hemminger <stephen at networkplumber.org>
Date: Tuesday, July 01 2025 15:41:46
DPDK git baseline: Repo:dpdk
Branch: master
CommitID:70c2297528e7c7789af452f78de1932e9a20c8a2
154914 --> testing pass
Upstream job id: Windows-Compile-DPDK-VS#6255
Test environment and result as below:
+---------------------+-------------------------+--------------------+-------------------+
| Environment | dpdk_llvm_clang_compile | dpdk_meson_compile | dpdk_msvc_compile |
+=====================+=========================+====================+===================+
| Windows Server 2022 | PASS | SKIPPED | PASS |
+---------------------+-------------------------+--------------------+-------------------+
| Ubuntu 20.04 | SKIPPED | PASS | SKIPPED |
+---------------------+-------------------------+--------------------+-------------------+
Windows Server 2022
Kernel: 10.0.20348.2031
Compiler: clang 15.0.7, gcc 14.1.0 (MinGW), and MSVC VS 19.39.33521
Ubuntu 20.04
Kernel: 4.19
Compiler: gcc gcc (Ubuntu 9.4.0-1ubuntu1~20.04.2) 9.4.0
To view detailed results, visit:
https://lab.dpdk.org/results/dashboard/patchsets/33557/
UNH-IOL DPDK Community Lab
To manage your email subscriptions, visit:
https://lab.dpdk.org/results/dashboard/preferences/subscriptions/
More information about the test-report
mailing list