|SUCCESS| pw154988-154994 [PATCH] [v8,8/8] bus/dpaa: optimize qman e

dpdklab at iol.unh.edu dpdklab at iol.unh.edu
Fri Jul 4 23:05:30 CEST 2025


Test-Label: iol-compile-amd64-testing
Test-Status: SUCCESS
http://dpdk.org/patch/154994

_Testing PASS_

Submitter: Vanshika Shukla <vanshika.shukla at nxp.com>
Date: Thursday, July 03 2025 05:37:43 
DPDK git baseline: Repo:dpdk
  Branch: master
  CommitID:b18c543ec30729ccc7708a6e064a1f9db5d8c11f

154988-154994 --> testing pass

Upstream job id: Windows-Compile-DPDK-Native#29574

Test environment and result as below:

+---------------------+--------------------+-------------------+-------------------------+
|     Environment     | dpdk_meson_compile | dpdk_msvc_compile | dpdk_llvm_clang_compile |
+=====================+====================+===================+=========================+
| Ubuntu 20.04        | PASS               | SKIPPED           | SKIPPED                 |
+---------------------+--------------------+-------------------+-------------------------+
| Windows Server 2022 | SKIPPED            | PASS              | PASS                    |
+---------------------+--------------------+-------------------+-------------------------+


Ubuntu 20.04
	Kernel: 4.19
	Compiler: gcc gcc (Ubuntu 9.4.0-1ubuntu1~20.04.2) 9.4.0

Windows Server 2022
	Kernel: 10.0.20348.2031
	Compiler: clang 15.0.7, gcc 14.1.0 (MinGW), and MSVC VS 19.39.33521

To view detailed results, visit:
https://lab.dpdk.org/results/dashboard/patchsets/33577/

UNH-IOL DPDK Community Lab

To manage your email subscriptions, visit: 
https://lab.dpdk.org/results/dashboard/preferences/subscriptions/


More information about the test-report mailing list