|SUCCESS| pw154943-154944 [PATCH] [v4,2/2] crypto/uadk: use async mo

dpdklab at iol.unh.edu dpdklab at iol.unh.edu
Fri Jul 4 23:21:51 CEST 2025


Test-Label: iol-unit-arm64-testing
Test-Status: SUCCESS
http://dpdk.org/patch/154944

_Testing PASS_

Submitter: Zhangfei Gao <zhangfei.gao at linaro.org>
Date: Wednesday, July 02 2025 02:42:16 
DPDK git baseline: Repo:dpdk
  Branch: master
  CommitID:5b132556bd54881bc69d413b0b8fbedb0efcb774

154943-154944 --> testing pass

Upstream job id: Generic-Unit-Test-DPDK#352609

Test environment and result as below:

+------------------------------+----------------+
|         Environment          | dpdk_unit_test |
+==============================+================+
| CentOS Stream 10             | PASS           |
+------------------------------+----------------+
| CentOS Stream 9              | PASS           |
+------------------------------+----------------+
| Fedora Linux 41              | PASS           |
+------------------------------+----------------+
| Debian GNU/Linux 12          | PASS           |
+------------------------------+----------------+
| Red Hat Enterprise Linux 9.5 | PASS           |
+------------------------------+----------------+
| Fedora Linux 40              | PASS           |
+------------------------------+----------------+
| Ubuntu 24.04                 | PASS           |
+------------------------------+----------------+
| Ubuntu 22.04                 | PASS           |
+------------------------------+----------------+
| Ubuntu 20.04                 | PASS           |
+------------------------------+----------------+


CentOS Stream 10
	Kernel: 5.4
	Compiler: gcc gcc (GCC) 14.2.1 20250110 (Red Hat 14.2.1-8)

CentOS Stream 9
	Kernel: 5.4
	Compiler: gcc gcc (GCC) 11.5.0 20240719 (Red Hat 11.5.0-7)

Fedora Linux 41
	Kernel: 5.4
	Compiler: gcc gcc (GCC) 14.3.1 20250523 (Red Hat 14.3.1-1)

Debian GNU/Linux 12
	Kernel: 5.4
	Compiler: gcc gcc (Debian 12.2.0-14+deb12u1) 12.2.0

Red Hat Enterprise Linux 9.5
	Kernel: 5.4
	Compiler: gcc gcc (GCC) 11.5.0 20240719 (Red Hat 11.5.0-2)

Fedora Linux 40
	Kernel: 5.4
	Compiler: gcc gcc (GCC) 14.2.1 20240912 (Red Hat 14.2.1-3)

Ubuntu 24.04
	Kernel: 5.4
	Compiler: gcc gcc (Ubuntu 13.3.0-6ubuntu2~24.04) 13.3.0

Ubuntu 22.04
	Kernel: 5.4
	Compiler: gcc gcc (Ubuntu 11.4.0-1ubuntu1~22.04) 11.4.0

Ubuntu 20.04
	Kernel: 5.4
	Compiler: gcc gcc (Ubuntu 9.4.0-1ubuntu1~20.04.2) 9.4.0

To view detailed results, visit:
https://lab.dpdk.org/results/dashboard/patchsets/33561/

UNH-IOL DPDK Community Lab

To manage your email subscriptions, visit: 
https://lab.dpdk.org/results/dashboard/preferences/subscriptions/


More information about the test-report mailing list