|SUCCESS| pw154978 [PATCH] [v3] net/iavf: fix VLAN offload strip fla
dpdklab at iol.unh.edu
dpdklab at iol.unh.edu
Fri Jul 4 23:33:27 CEST 2025
Test-Label: iol-abi-testing
Test-Status: SUCCESS
http://dpdk.org/patch/154978
_Testing PASS_
Submitter: Amiya Ranjan Mohakud <amiyaranjan.mohakud at gmail.com>
Date: Wednesday, July 02 2025 18:38:56
DPDK git baseline: Repo:dpdk
Branch: master
CommitID:0ae2a33d16a8727ac2935ac500e216906b50ac2c
154978 --> testing pass
Upstream job id: Generic-DPDK-Compile-ABI#133074
Test environment and result as below:
+-------------------------------+----------+
| Environment | abi_test |
+===============================+==========+
| CentOS Stream 9 | PASS |
+-------------------------------+----------+
| CentOS Stream 10 | PASS |
+-------------------------------+----------+
| Fedora Linux 40 | PASS |
+-------------------------------+----------+
| Fedora Linux 41 | PASS |
+-------------------------------+----------+
| Ubuntu 22.04 | PASS |
+-------------------------------+----------+
| Red Hat Enterprise Linux 9.5 | PASS |
+-------------------------------+----------+
| Red Hat Enterprise Linux 8.10 | PASS |
+-------------------------------+----------+
| openSUSE Leap 15.6 | PASS |
+-------------------------------+----------+
| Ubuntu 24.04 | PASS |
+-------------------------------+----------+
CentOS Stream 9
Kernel: 5.15
Compiler: gcc gcc (GCC) 11.5.0 20240719 (Red Hat 11.5.0-7)
CentOS Stream 10
Kernel: 5.15
Compiler: gcc gcc (GCC) 14.2.1 20250110 (Red Hat 14.2.1-8)
Fedora Linux 40
Kernel: 5.15
Compiler: clang gcc (GCC) 14.2.1 20240912 (Red Hat 14.2.1-3)
Fedora Linux 41
Kernel: 5.15
Compiler: clang gcc (GCC) 14.3.1 20250523 (Red Hat 14.3.1-1)
Ubuntu 22.04
Kernel: 5.15
Compiler: gcc gcc (Ubuntu 11.4.0-1ubuntu1~22.04) 11.4.0
Red Hat Enterprise Linux 9.5
Kernel: 5.15
Compiler: gcc gcc (GCC) 11.5.0 20240719 (Red Hat 11.5.0-2)
Red Hat Enterprise Linux 8.10
Kernel: 5.15
Compiler: gcc gcc (GCC) 8.5.0 20210514 (Red Hat 8.5.0-22)
openSUSE Leap 15.6
Kernel: 5.15
Compiler: gcc gcc (SUSE Linux) 7.5.0
Ubuntu 24.04
Kernel: 5.15
Compiler: gcc gcc (Ubuntu 13.3.0-6ubuntu2~24.04) 13.3.0
To view detailed results, visit:
https://lab.dpdk.org/results/dashboard/patchsets/33575/
UNH-IOL DPDK Community Lab
To manage your email subscriptions, visit:
https://lab.dpdk.org/results/dashboard/preferences/subscriptions/
More information about the test-report
mailing list