|SUCCESS| pw155012-155013 [PATCH] [v2,2/2] dts: add generic blocking

dpdklab at iol.unh.edu dpdklab at iol.unh.edu
Sat Jul 5 03:42:42 CEST 2025


Test-Label: iol-compile-amd64-testing
Test-Status: SUCCESS
http://dpdk.org/patch/155013

_Testing PASS_

Submitter: Luca Vizzarro <luca.vizzarro at arm.com>
Date: Friday, July 04 2025 15:29:08 
DPDK git baseline: Repo:dpdk
  Branch: master
  CommitID:31ba785774d258d4c57b68dabdf544e575f3af83

155012-155013 --> testing pass

Upstream job id: Windows-Compile-DPDK-Native#29582

Test environment and result as below:

+---------------------+-------------------+--------------------+-------------------------+
|     Environment     | dpdk_msvc_compile | dpdk_meson_compile | dpdk_llvm_clang_compile |
+=====================+===================+====================+=========================+
| Windows Server 2022 | PASS              | SKIPPED            | PASS                    |
+---------------------+-------------------+--------------------+-------------------------+
| Ubuntu 20.04        | SKIPPED           | PASS               | SKIPPED                 |
+---------------------+-------------------+--------------------+-------------------------+


Windows Server 2022
	Kernel: 10.0.20348.2031
	Compiler: clang 15.0.7, gcc 14.1.0 (MinGW), and MSVC VS 19.39.33521

Ubuntu 20.04
	Kernel: 4.19
	Compiler: gcc gcc (Ubuntu 9.4.0-1ubuntu1~20.04.2) 9.4.0

To view detailed results, visit:
https://lab.dpdk.org/results/dashboard/patchsets/33595/

UNH-IOL DPDK Community Lab

To manage your email subscriptions, visit: 
https://lab.dpdk.org/results/dashboard/preferences/subscriptions/


More information about the test-report mailing list