|SUCCESS| pw154995 [PATCH] [v2] ci: check C++ headers with clang

dpdklab at iol.unh.edu dpdklab at iol.unh.edu
Sat Jul 5 04:26:59 CEST 2025


Test-Label: iol-compile-amd64-testing
Test-Status: SUCCESS
http://dpdk.org/patch/154995

_Testing PASS_

Submitter: David Marchand <david.marchand at redhat.com>
Date: Thursday, July 03 2025 08:20:10 
DPDK git baseline: Repo:dpdk
  Branch: master
  CommitID:70c2297528e7c7789af452f78de1932e9a20c8a2

154995 --> testing pass

Upstream job id: Windows-Compile-DPDK-Native#29589

Test environment and result as below:

+---------------------+-------------------+--------------------+-------------------------+----------------------+
|     Environment     | dpdk_msvc_compile | dpdk_meson_compile | dpdk_llvm_clang_compile | dpdk_mingw64_compile |
+=====================+===================+====================+=========================+======================+
| Windows Server 2022 | PASS              | SKIPPED            | PASS                    | PASS                 |
+---------------------+-------------------+--------------------+-------------------------+----------------------+
| Ubuntu 20.04        | SKIPPED           | PASS               | SKIPPED                 | SKIPPED              |
+---------------------+-------------------+--------------------+-------------------------+----------------------+


Windows Server 2022
	Kernel: 10.0.20348.2031
	Compiler: clang 15.0.7, gcc 14.1.0 (MinGW), and MSVC VS 19.39.33521

Ubuntu 20.04
	Kernel: 4.19
	Compiler: gcc gcc (Ubuntu 9.4.0-1ubuntu1~20.04.2) 9.4.0

To view detailed results, visit:
https://lab.dpdk.org/results/dashboard/patchsets/33578/

UNH-IOL DPDK Community Lab

To manage your email subscriptions, visit: 
https://lab.dpdk.org/results/dashboard/preferences/subscriptions/


More information about the test-report mailing list