|SUCCESS| pw154995 [PATCH] [v2] ci: check C++ headers with clang
dpdklab at iol.unh.edu
dpdklab at iol.unh.edu
Sat Jul 5 12:09:07 CEST 2025
Test-Label: iol-unit-arm64-testing
Test-Status: SUCCESS
http://dpdk.org/patch/154995
_Testing PASS_
Submitter: David Marchand <david.marchand at redhat.com>
Date: Thursday, July 03 2025 08:20:10
DPDK git baseline: Repo:dpdk
Branch: master
CommitID:70c2297528e7c7789af452f78de1932e9a20c8a2
154995 --> testing pass
Upstream job id: Generic-Unit-Test-DPDK#352870
Test environment and result as below:
+------------------------------+----------------+
| Environment | dpdk_unit_test |
+==============================+================+
| CentOS Stream 10 | PASS |
+------------------------------+----------------+
| Fedora Linux 40 | PASS |
+------------------------------+----------------+
| CentOS Stream 9 | PASS |
+------------------------------+----------------+
| Debian GNU/Linux 12 | PASS |
+------------------------------+----------------+
| Fedora Linux 41 | PASS |
+------------------------------+----------------+
| Red Hat Enterprise Linux 9.5 | PASS |
+------------------------------+----------------+
| Ubuntu 20.04 | PASS |
+------------------------------+----------------+
| Ubuntu 22.04 | PASS |
+------------------------------+----------------+
| Ubuntu 24.04 | PASS |
+------------------------------+----------------+
CentOS Stream 10
Kernel: 5.4
Compiler: gcc gcc (GCC) 14.2.1 20250110 (Red Hat 14.2.1-8)
Fedora Linux 40
Kernel: 5.4
Compiler: gcc gcc (GCC) 14.2.1 20240912 (Red Hat 14.2.1-3)
CentOS Stream 9
Kernel: 5.4
Compiler: gcc gcc (GCC) 11.5.0 20240719 (Red Hat 11.5.0-7)
Debian GNU/Linux 12
Kernel: 5.4
Compiler: gcc gcc (Debian 12.2.0-14+deb12u1) 12.2.0
Fedora Linux 41
Kernel: 5.4
Compiler: clang gcc (GCC) 14.3.1 20250523 (Red Hat 14.3.1-1)
Red Hat Enterprise Linux 9.5
Kernel: 5.4
Compiler: gcc gcc (GCC) 11.5.0 20240719 (Red Hat 11.5.0-2)
Ubuntu 20.04
Kernel: 5.4
Compiler: gcc gcc (Ubuntu 9.4.0-1ubuntu1~20.04.2) 9.4.0
Ubuntu 22.04
Kernel: 5.4
Compiler: gcc gcc (Ubuntu 11.4.0-1ubuntu1~22.04) 11.4.0
Ubuntu 24.04
Kernel: 5.4
Compiler: gcc gcc (Ubuntu 13.3.0-6ubuntu2~24.04) 13.3.0
To view detailed results, visit:
https://lab.dpdk.org/results/dashboard/patchsets/33578/
UNH-IOL DPDK Community Lab
To manage your email subscriptions, visit:
https://lab.dpdk.org/results/dashboard/preferences/subscriptions/
More information about the test-report
mailing list