|WARNING| pw155012-155013 [PATCH] [v2,2/2] dts: add generic blocking

dpdklab at iol.unh.edu dpdklab at iol.unh.edu
Sat Jul 5 14:58:08 CEST 2025


Test-Label: iol-compile-amd64-testing
Test-Status: WARNING
http://dpdk.org/patch/155013

_Testing issues_

Submitter: Luca Vizzarro <luca.vizzarro at arm.com>
Date: Friday, July 04 2025 15:29:08 
DPDK git baseline: Repo:dpdk
  Branch: master
  CommitID:31ba785774d258d4c57b68dabdf544e575f3af83

155012-155013 --> testing issues

Upstream job id: Generic-DPDK-Compile-Meson#405596

Test environment and result as below:

+-------------------------------+-------------------+--------------------+----------------------+-------------------+------------------+
|          Environment          | dpdk_msvc_compile | dpdk_meson_compile | dpdk_mingw64_compile | dpdk_compile_spdk | dpdk_compile_ovs |
+===============================+===================+====================+======================+===================+==================+
| Windows Server 2022           | PASS              | SKIPPED            | PASS                 | SKIPPED           | SKIPPED          |
+-------------------------------+-------------------+--------------------+----------------------+-------------------+------------------+
| Ubuntu 20.04                  | SKIPPED           | PASS               | SKIPPED              | SKIPPED           | SKIPPED          |
+-------------------------------+-------------------+--------------------+----------------------+-------------------+------------------+
| CentOS Stream 10              | SKIPPED           | PASS               | SKIPPED              | SKIPPED           | SKIPPED          |
+-------------------------------+-------------------+--------------------+----------------------+-------------------+------------------+
| Debian GNU/Linux 12           | SKIPPED           | PASS               | SKIPPED              | PASS              | SKIPPED          |
+-------------------------------+-------------------+--------------------+----------------------+-------------------+------------------+
| Fedora Linux 40               | SKIPPED           | PASS               | SKIPPED              | WARN              | SKIPPED          |
+-------------------------------+-------------------+--------------------+----------------------+-------------------+------------------+
| Fedora Linux 41               | SKIPPED           | PASS               | SKIPPED              | PASS              | PASS             |
+-------------------------------+-------------------+--------------------+----------------------+-------------------+------------------+
| openSUSE Leap 15.6            | SKIPPED           | PASS               | SKIPPED              | SKIPPED           | SKIPPED          |
+-------------------------------+-------------------+--------------------+----------------------+-------------------+------------------+
| Red Hat Enterprise Linux 8.10 | SKIPPED           | PASS               | SKIPPED              | SKIPPED           | SKIPPED          |
+-------------------------------+-------------------+--------------------+----------------------+-------------------+------------------+
| Red Hat Enterprise Linux 9.5  | SKIPPED           | PASS               | SKIPPED              | SKIPPED           | SKIPPED          |
+-------------------------------+-------------------+--------------------+----------------------+-------------------+------------------+
| Ubuntu 22.04                  | SKIPPED           | PASS               | SKIPPED              | PASS              | SKIPPED          |
+-------------------------------+-------------------+--------------------+----------------------+-------------------+------------------+
| Ubuntu 24.04                  | SKIPPED           | PASS               | SKIPPED              | PASS              | PASS             |
+-------------------------------+-------------------+--------------------+----------------------+-------------------+------------------+
| Alpine Linux 3.22.0           | SKIPPED           | PASS               | SKIPPED              | SKIPPED           | SKIPPED          |
+-------------------------------+-------------------+--------------------+----------------------+-------------------+------------------+
| CentOS Stream 9               | SKIPPED           | PASS               | SKIPPED              | PASS              | SKIPPED          |
+-------------------------------+-------------------+--------------------+----------------------+-------------------+------------------+

==== 20 line log output for Fedora Linux 40 (dpdk_compile_spdk): ====
 --- Failed to get log output --- 
==== End log output ====

Windows Server 2022
	Kernel: 10.0.20348.2031
	Compiler: clang 15.0.7, gcc 14.1.0 (MinGW), and MSVC VS 19.39.33521

Ubuntu 20.04
	Kernel: 4.19
	Compiler: gcc gcc (Ubuntu 9.4.0-1ubuntu1~20.04.2) 9.4.0

CentOS Stream 10
	Kernel: 5.15
	Compiler: gcc gcc (GCC) 14.2.1 20250110 (Red Hat 14.2.1-8)

Debian GNU/Linux 12
	Kernel: 5.15
	Compiler: gcc gcc (Debian 12.2.0-14+deb12u1) 12.2.0

Fedora Linux 40
	Kernel: 5.15
	Compiler: gcc gcc (GCC) 14.2.1 20240912 (Red Hat 14.2.1-3)

Fedora Linux 41
	Kernel: 5.15
	Compiler: clang gcc (GCC) 14.3.1 20250523 (Red Hat 14.3.1-1)

openSUSE Leap 15.6
	Kernel: 5.15
	Compiler: gcc gcc (SUSE Linux) 7.5.0

Red Hat Enterprise Linux 8.10
	Kernel: 5.15
	Compiler: gcc gcc (GCC) 8.5.0 20210514 (Red Hat 8.5.0-22)

Red Hat Enterprise Linux 9.5
	Kernel: 5.15
	Compiler: gcc gcc (GCC) 11.5.0 20240719 (Red Hat 11.5.0-2)

Ubuntu 22.04
	Kernel: 5.15
	Compiler: gcc gcc (Ubuntu 11.4.0-1ubuntu1~22.04) 11.4.0

Ubuntu 24.04
	Kernel: 5.15
	Compiler: gcc gcc (Ubuntu 13.3.0-6ubuntu2~24.04) 13.3.0

Alpine Linux 3.22.0
	Kernel: 5.15
	Compiler: gcc gcc (Alpine 14.2.0) 14.2.0

CentOS Stream 9
	Kernel: 5.15
	Compiler: gcc gcc (GCC) 11.5.0 20240719 (Red Hat 11.5.0-7)

To view detailed results, visit:
https://lab.dpdk.org/results/dashboard/patchsets/33595/

UNH-IOL DPDK Community Lab

To manage your email subscriptions, visit: 
https://lab.dpdk.org/results/dashboard/preferences/subscriptions/


More information about the test-report mailing list