|SUCCESS| pw155053 [PATCH] examples/multi_process: fix cleanup on ex

dpdklab at iol.unh.edu dpdklab at iol.unh.edu
Tue Jul 8 10:33:26 CEST 2025


Test-Label: iol-compile-amd64-testing
Test-Status: SUCCESS
http://dpdk.org/patch/155053

_Testing PASS_

Submitter: Maayan Kashani <mkashani at nvidia.com>
Date: Tuesday, July 08 2025 07:09:54 
DPDK git baseline: Repo:dpdk
  Branch: master
  CommitID:70c2297528e7c7789af452f78de1932e9a20c8a2

155053 --> testing pass

Upstream job id: Windows-Compile-DPDK-Native#29636

Test environment and result as below:

+---------------------+--------------------+-------------------+-------------------------+
|     Environment     | dpdk_meson_compile | dpdk_msvc_compile | dpdk_llvm_clang_compile |
+=====================+====================+===================+=========================+
| Ubuntu 20.04        | PASS               | SKIPPED           | SKIPPED                 |
+---------------------+--------------------+-------------------+-------------------------+
| Windows Server 2022 | SKIPPED            | PASS              | PASS                    |
+---------------------+--------------------+-------------------+-------------------------+


Ubuntu 20.04
	Kernel: 4.19
	Compiler: gcc gcc (Ubuntu 9.4.0-1ubuntu1~20.04.2) 9.4.0

Windows Server 2022
	Kernel: 10.0.20348.2031
	Compiler: clang 15.0.7, gcc 14.1.0 (MinGW), and MSVC VS 19.39.33521

To view detailed results, visit:
https://lab.dpdk.org/results/dashboard/patchsets/33607/

UNH-IOL DPDK Community Lab

To manage your email subscriptions, visit: 
https://lab.dpdk.org/results/dashboard/preferences/subscriptions/


More information about the test-report mailing list