|SUCCESS| pw155055 [PATCH] net/mlx5: fix out of order completions in
dpdklab at iol.unh.edu
dpdklab at iol.unh.edu
Tue Jul 8 14:21:09 CEST 2025
Test-Label: iol-unit-arm64-testing
Test-Status: SUCCESS
http://dpdk.org/patch/155055
_Testing PASS_
Submitter: Viacheslav Ovsiienko <viacheslavo at nvidia.com>
Date: Tuesday, July 08 2025 09:53:41
DPDK git baseline: Repo:dpdk
Branch: master
CommitID:e2888614268cbf0abcc7cd72ad97ff4e4901d0a5
155055 --> testing pass
Upstream job id: Aarch32-Unit-Test#6847
Test environment and result as below:
+------------------------------+----------------+--------------+------------------------------+---------------------------+
| Environment | dpdk_unit_test | lpm_autotest | cryptodev_sw_snow3g_autotest | cryptodev_sw_zuc_autotest |
+==============================+================+==============+==============================+===========================+
| CentOS Stream 9 | PASS | SKIPPED | SKIPPED | SKIPPED |
+------------------------------+----------------+--------------+------------------------------+---------------------------+
| Fedora Linux 41 | PASS | SKIPPED | SKIPPED | SKIPPED |
+------------------------------+----------------+--------------+------------------------------+---------------------------+
| Fedora Linux 40 | PASS | SKIPPED | SKIPPED | SKIPPED |
+------------------------------+----------------+--------------+------------------------------+---------------------------+
| Debian GNU/Linux 12 | PASS | SKIPPED | SKIPPED | SKIPPED |
+------------------------------+----------------+--------------+------------------------------+---------------------------+
| CentOS Stream 10 | PASS | SKIPPED | SKIPPED | SKIPPED |
+------------------------------+----------------+--------------+------------------------------+---------------------------+
| Ubuntu 20.04 | PASS | PASS | SKIPPED | SKIPPED |
+------------------------------+----------------+--------------+------------------------------+---------------------------+
| Ubuntu 22.04 | PASS | SKIPPED | SKIPPED | SKIPPED |
+------------------------------+----------------+--------------+------------------------------+---------------------------+
| Red Hat Enterprise Linux 9.5 | PASS | SKIPPED | SKIPPED | SKIPPED |
+------------------------------+----------------+--------------+------------------------------+---------------------------+
| Ubuntu 24.04 | PASS | SKIPPED | SKIPPED | SKIPPED |
+------------------------------+----------------+--------------+------------------------------+---------------------------+
| Debian 12 (arm) | SKIPPED | SKIPPED | PASS | PASS |
+------------------------------+----------------+--------------+------------------------------+---------------------------+
CentOS Stream 9
Kernel: 5.4
Compiler: gcc gcc (GCC) 11.5.0 20240719 (Red Hat 11.5.0-7)
Fedora Linux 41
Kernel: 5.4
Compiler: gcc gcc (GCC) 14.3.1 20250523 (Red Hat 14.3.1-1)
Fedora Linux 40
Kernel: 5.4
Compiler: clang gcc (GCC) 14.2.1 20240912 (Red Hat 14.2.1-3)
Debian GNU/Linux 12
Kernel: 5.4
Compiler: gcc gcc (Debian 12.2.0-14+deb12u1) 12.2.0
CentOS Stream 10
Kernel: 5.4
Compiler: gcc gcc (GCC) 14.2.1 20250110 (Red Hat 14.2.1-8)
Ubuntu 20.04
Kernel: 5.4
Compiler: gcc gcc (Ubuntu 9.4.0-1ubuntu1~20.04.2) 9.4.0
Ubuntu 22.04
Kernel: 5.4
Compiler: gcc gcc (Ubuntu 11.4.0-1ubuntu1~22.04) 11.4.0
Red Hat Enterprise Linux 9.5
Kernel: 5.4
Compiler: gcc gcc (GCC) 11.5.0 20240719 (Red Hat 11.5.0-2)
Ubuntu 24.04
Kernel: 5.4
Compiler: gcc gcc (Ubuntu 13.3.0-6ubuntu2~24.04) 13.3.0
Debian 12 (arm)
Kernel: Depends on container host
Compiler: gcc (Debian 12.2.0-14) 12.2.0
To view detailed results, visit:
https://lab.dpdk.org/results/dashboard/patchsets/33609/
UNH-IOL DPDK Community Lab
To manage your email subscriptions, visit:
https://lab.dpdk.org/results/dashboard/preferences/subscriptions/
More information about the test-report
mailing list