|SUCCESS| pw154925-154942 [PATCH] [V5,18/18] drivers/net: add hinic3

dpdklab at iol.unh.edu dpdklab at iol.unh.edu
Wed Jul 9 06:12:16 CEST 2025


Test-Label: iol-abi-testing
Test-Status: SUCCESS
http://dpdk.org/patch/154942

_Testing PASS_

Submitter: Feifei Wang <wff_light at vip.163.com>
Date: Wednesday, July 02 2025 02:09:41 
DPDK git baseline: Repo:dpdk
  Branch: master
  CommitID:ba982f9a1ca9b96ed0394b764f1523d482e963a2

154925-154942 --> testing pass

Upstream job id: Generic-DPDK-Compile-ABI#133647

Test environment and result as below:

+-------------------------------+----------+
|          Environment          | abi_test |
+===============================+==========+
| Fedora Linux 40               | PASS     |
+-------------------------------+----------+
| Debian GNU/Linux 12           | PASS     |
+-------------------------------+----------+
| CentOS Stream 9               | PASS     |
+-------------------------------+----------+
| CentOS Stream 10              | PASS     |
+-------------------------------+----------+
| Fedora Linux 41               | PASS     |
+-------------------------------+----------+
| Ubuntu 24.04                  | PASS     |
+-------------------------------+----------+
| Ubuntu 22.04                  | PASS     |
+-------------------------------+----------+
| Red Hat Enterprise Linux 8.10 | PASS     |
+-------------------------------+----------+
| Red Hat Enterprise Linux 9.5  | PASS     |
+-------------------------------+----------+
| openSUSE Leap 15.6            | PASS     |
+-------------------------------+----------+


Fedora Linux 40
	Kernel: 5.15
	Compiler: clang gcc (GCC) 14.2.1 20240912 (Red Hat 14.2.1-3)

Debian GNU/Linux 12
	Kernel: 5.15
	Compiler: gcc gcc (Debian 12.2.0-14+deb12u1) 12.2.0

CentOS Stream 9
	Kernel: 5.15
	Compiler: gcc gcc (GCC) 11.5.0 20240719 (Red Hat 11.5.0-7)

CentOS Stream 10
	Kernel: 5.15
	Compiler: gcc gcc (GCC) 14.2.1 20250110 (Red Hat 14.2.1-8)

Fedora Linux 41
	Kernel: 5.15
	Compiler: clang gcc (GCC) 14.3.1 20250523 (Red Hat 14.3.1-1)

Ubuntu 24.04
	Kernel: 5.15
	Compiler: gcc gcc (Ubuntu 13.3.0-6ubuntu2~24.04) 13.3.0

Ubuntu 22.04
	Kernel: 5.15
	Compiler: gcc gcc (Ubuntu 11.4.0-1ubuntu1~22.04) 11.4.0

Red Hat Enterprise Linux 8.10
	Kernel: 5.15
	Compiler: gcc gcc (GCC) 8.5.0 20210514 (Red Hat 8.5.0-22)

Red Hat Enterprise Linux 9.5
	Kernel: 5.15
	Compiler: gcc gcc (GCC) 11.5.0 20240719 (Red Hat 11.5.0-2)

openSUSE Leap 15.6
	Kernel: 5.15
	Compiler: gcc gcc (SUSE Linux) 7.5.0

To view detailed results, visit:
https://lab.dpdk.org/results/dashboard/patchsets/33560/

UNH-IOL DPDK Community Lab

To manage your email subscriptions, visit: 
https://lab.dpdk.org/results/dashboard/preferences/subscriptions/


More information about the test-report mailing list