|SUCCESS| pw155086 [PATCH] net/mlx5: fix the queue length checking
dpdklab at iol.unh.edu
dpdklab at iol.unh.edu
Wed Jul 9 14:49:26 CEST 2025
Test-Label: iol-unit-arm64-testing
Test-Status: SUCCESS
http://dpdk.org/patch/155086
_Testing PASS_
Submitter: Bing Zhao <bingz at nvidia.com>
Date: Wednesday, July 09 2025 04:00:00
DPDK git baseline: Repo:dpdk
Branch: master
CommitID:e2888614268cbf0abcc7cd72ad97ff4e4901d0a5
155086 --> testing pass
Upstream job id: Generic-Unit-Test-DPDK#354104
Test environment and result as below:
+------------------------------+---------------------------+----------------+--------------+------------------------------+
| Environment | cryptodev_sw_zuc_autotest | dpdk_unit_test | lpm_autotest | cryptodev_sw_snow3g_autotest |
+==============================+===========================+================+==============+==============================+
| Debian 12 (arm) | PASS | SKIPPED | SKIPPED | PASS |
+------------------------------+---------------------------+----------------+--------------+------------------------------+
| CentOS Stream 9 | SKIPPED | PASS | SKIPPED | SKIPPED |
+------------------------------+---------------------------+----------------+--------------+------------------------------+
| Fedora Linux 40 | SKIPPED | PASS | SKIPPED | SKIPPED |
+------------------------------+---------------------------+----------------+--------------+------------------------------+
| CentOS Stream 10 | SKIPPED | PASS | SKIPPED | SKIPPED |
+------------------------------+---------------------------+----------------+--------------+------------------------------+
| Debian GNU/Linux 12 | SKIPPED | PASS | SKIPPED | SKIPPED |
+------------------------------+---------------------------+----------------+--------------+------------------------------+
| Fedora Linux 41 | SKIPPED | PASS | SKIPPED | SKIPPED |
+------------------------------+---------------------------+----------------+--------------+------------------------------+
| Ubuntu 22.04 | SKIPPED | PASS | SKIPPED | SKIPPED |
+------------------------------+---------------------------+----------------+--------------+------------------------------+
| Red Hat Enterprise Linux 9.5 | SKIPPED | PASS | SKIPPED | SKIPPED |
+------------------------------+---------------------------+----------------+--------------+------------------------------+
| Ubuntu 20.04 | SKIPPED | PASS | PASS | SKIPPED |
+------------------------------+---------------------------+----------------+--------------+------------------------------+
| Ubuntu 24.04 | SKIPPED | PASS | SKIPPED | SKIPPED |
+------------------------------+---------------------------+----------------+--------------+------------------------------+
Debian 12 (arm)
Kernel: Depends on container host
Compiler: gcc (Debian 12.2.0-14) 12.2.0
CentOS Stream 9
Kernel: 5.4
Compiler: gcc gcc (GCC) 11.5.0 20240719 (Red Hat 11.5.0-7)
Fedora Linux 40
Kernel: 5.4
Compiler: gcc gcc (GCC) 14.2.1 20240912 (Red Hat 14.2.1-3)
CentOS Stream 10
Kernel: 5.4
Compiler: gcc gcc (GCC) 14.2.1 20250110 (Red Hat 14.2.1-8)
Debian GNU/Linux 12
Kernel: 5.4
Compiler: gcc gcc (Debian 12.2.0-14+deb12u1) 12.2.0
Fedora Linux 41
Kernel: 5.4
Compiler: clang gcc (GCC) 14.3.1 20250523 (Red Hat 14.3.1-1)
Ubuntu 22.04
Kernel: 5.4
Compiler: gcc gcc (Ubuntu 11.4.0-1ubuntu1~22.04) 11.4.0
Red Hat Enterprise Linux 9.5
Kernel: 5.4
Compiler: gcc gcc (GCC) 11.5.0 20240719 (Red Hat 11.5.0-2)
Ubuntu 20.04
Kernel: 5.4
Compiler: gcc gcc (Ubuntu 9.4.0-1ubuntu1~20.04.2) 9.4.0
Ubuntu 24.04
Kernel: 5.4
Compiler: gcc gcc (Ubuntu 13.3.0-6ubuntu2~24.04) 13.3.0
To view detailed results, visit:
https://lab.dpdk.org/results/dashboard/patchsets/33619/
UNH-IOL DPDK Community Lab
To manage your email subscriptions, visit:
https://lab.dpdk.org/results/dashboard/preferences/subscriptions/
More information about the test-report
mailing list