|WARNING| pw155088-155089 [PATCH] [v5,2/2] crypto/uadk: use async mo

dpdklab at iol.unh.edu dpdklab at iol.unh.edu
Wed Jul 9 15:36:11 CEST 2025


Test-Label: iol-compile-amd64-testing
Test-Status: WARNING
http://dpdk.org/patch/155089

_Testing issues_

Submitter: Zhangfei Gao <zhangfei.gao at linaro.org>
Date: Wednesday, July 09 2025 06:47:01 
DPDK git baseline: Repo:dpdk
  Branch: master
  CommitID:2f4f0dc5f678fcf62cf046fa69821c0b8786deb4

155088-155089 --> testing issues

Upstream job id: Generic-DPDK-Compile-Meson#407214

Test environment and result as below:

+-------------------------------+--------------------+-------------------+-------------------+------------------+
|          Environment          | dpdk_meson_compile | dpdk_compile_spdk | dpdk_msvc_compile | dpdk_compile_ovs |
+===============================+====================+===================+===================+==================+
| Ubuntu 20.04                  | PASS               | SKIPPED           | SKIPPED           | SKIPPED          |
+-------------------------------+--------------------+-------------------+-------------------+------------------+
| FreeBSD 14.2                  | PASS               | SKIPPED           | SKIPPED           | SKIPPED          |
+-------------------------------+--------------------+-------------------+-------------------+------------------+
| CentOS Stream 9               | PASS               | PASS              | SKIPPED           | SKIPPED          |
+-------------------------------+--------------------+-------------------+-------------------+------------------+
| CentOS Stream 10              | PASS               | SKIPPED           | SKIPPED           | SKIPPED          |
+-------------------------------+--------------------+-------------------+-------------------+------------------+
| Debian GNU/Linux 12           | PASS               | PASS              | SKIPPED           | SKIPPED          |
+-------------------------------+--------------------+-------------------+-------------------+------------------+
| Fedora Linux 40               | PASS               | PASS              | SKIPPED           | SKIPPED          |
+-------------------------------+--------------------+-------------------+-------------------+------------------+
| Fedora Linux 41               | PASS               | PASS              | SKIPPED           | PASS             |
+-------------------------------+--------------------+-------------------+-------------------+------------------+
| openSUSE Leap 15.6            | PASS               | SKIPPED           | SKIPPED           | SKIPPED          |
+-------------------------------+--------------------+-------------------+-------------------+------------------+
| Red Hat Enterprise Linux 8.10 | PASS               | SKIPPED           | SKIPPED           | SKIPPED          |
+-------------------------------+--------------------+-------------------+-------------------+------------------+
| Red Hat Enterprise Linux 9.5  | PASS               | SKIPPED           | SKIPPED           | SKIPPED          |
+-------------------------------+--------------------+-------------------+-------------------+------------------+
| Ubuntu 22.04                  | PASS               | PASS              | SKIPPED           | SKIPPED          |
+-------------------------------+--------------------+-------------------+-------------------+------------------+
| Ubuntu 24.04                  | PASS               | PEND              | SKIPPED           | PEND             |
+-------------------------------+--------------------+-------------------+-------------------+------------------+
| Alpine Linux 3.22.0           | PEND               | SKIPPED           | SKIPPED           | SKIPPED          |
+-------------------------------+--------------------+-------------------+-------------------+------------------+
| Windows Server 2022           | SKIPPED            | SKIPPED           | PASS              | SKIPPED          |
+-------------------------------+--------------------+-------------------+-------------------+------------------+


Ubuntu 20.04
	Kernel: 4.19
	Compiler: gcc gcc (Ubuntu 9.4.0-1ubuntu1~20.04.2) 9.4.0

FreeBSD 14.2
	Kernel: 14.2-RELEASE
	Compiler: clang 18.1.6

CentOS Stream 9
	Kernel: 5.15
	Compiler: gcc gcc (GCC) 11.5.0 20240719 (Red Hat 11.5.0-7)

CentOS Stream 10
	Kernel: 5.15
	Compiler: gcc gcc (GCC) 14.2.1 20250110 (Red Hat 14.2.1-8)

Debian GNU/Linux 12
	Kernel: 5.15
	Compiler: gcc gcc (Debian 12.2.0-14+deb12u1) 12.2.0

Fedora Linux 40
	Kernel: 5.15
	Compiler: clang gcc (GCC) 14.2.1 20240912 (Red Hat 14.2.1-3)

Fedora Linux 41
	Kernel: 5.15
	Compiler: clang gcc (GCC) 14.3.1 20250523 (Red Hat 14.3.1-1)

openSUSE Leap 15.6
	Kernel: 5.15
	Compiler: gcc gcc (SUSE Linux) 7.5.0

Red Hat Enterprise Linux 8.10
	Kernel: 5.15
	Compiler: gcc gcc (GCC) 8.5.0 20210514 (Red Hat 8.5.0-22)

Red Hat Enterprise Linux 9.5
	Kernel: 5.15
	Compiler: gcc gcc (GCC) 11.5.0 20240719 (Red Hat 11.5.0-2)

Ubuntu 22.04
	Kernel: 5.15
	Compiler: gcc gcc (Ubuntu 11.4.0-1ubuntu1~22.04) 11.4.0

Ubuntu 24.04
	Kernel: 5.15
	Compiler: gcc gcc (Ubuntu 13.3.0-6ubuntu2~24.04) 13.3.0

Alpine Linux 3.22.0
	Kernel: 5.15
	Compiler: gcc gcc (Alpine 14.2.0) 14.2.0

Windows Server 2022
	Kernel: 10.0.20348.2031
	Compiler: clang 15.0.7, gcc 14.1.0 (MinGW), and MSVC VS 19.39.33521

To view detailed results, visit:
https://lab.dpdk.org/results/dashboard/patchsets/33621/

UNH-IOL DPDK Community Lab

To manage your email subscriptions, visit: 
https://lab.dpdk.org/results/dashboard/preferences/subscriptions/


More information about the test-report mailing list