|SUCCESS| pw155007 [PATCH] [v2,01/14] net/sxe: add base driver direc

dpdklab at iol.unh.edu dpdklab at iol.unh.edu
Thu Jul 10 10:57:57 CEST 2025


Test-Label: iol-unit-amd64-testing
Test-Status: SUCCESS
http://dpdk.org/patch/155007

_Testing PASS_

Submitter: Jie Liu <liujie5 at linkdatatechnology.com>
Date: Friday, July 04 2025 02:53:48 
DPDK git baseline: Repo:dpdk
  Branch: master
  CommitID:7e6d6106a4ef052d6a2a6bd6e83c5b16a36c65c9

155007 --> testing pass

Upstream job id: Generic-VM-Unit-Test-DPDK#29860

Test environment and result as below:

+-------------------------------+----------------+
|          Environment          | dpdk_unit_test |
+===============================+================+
| CentOS Stream 9               | PASS           |
+-------------------------------+----------------+
| CentOS Stream 10              | PASS           |
+-------------------------------+----------------+
| Fedora Linux 40               | PASS           |
+-------------------------------+----------------+
| Debian GNU/Linux 12           | PASS           |
+-------------------------------+----------------+
| Fedora Linux 41               | PASS           |
+-------------------------------+----------------+
| Red Hat Enterprise Linux 9.5  | PASS           |
+-------------------------------+----------------+
| Ubuntu 20.04                  | PASS           |
+-------------------------------+----------------+
| Ubuntu 22.04                  | PASS           |
+-------------------------------+----------------+
| Ubuntu 24.04                  | PASS           |
+-------------------------------+----------------+
| Red Hat Enterprise Linux 8.10 | PASS           |
+-------------------------------+----------------+
| Windows Server 2022           | PASS           |
+-------------------------------+----------------+


CentOS Stream 9
	Kernel: 5.15
	Compiler: gcc gcc (GCC) 11.5.0 20240719 (Red Hat 11.5.0-7)

CentOS Stream 10
	Kernel: 5.15
	Compiler: gcc gcc (GCC) 14.2.1 20250110 (Red Hat 14.2.1-8)

Fedora Linux 40
	Kernel: 5.15
	Compiler: gcc gcc (GCC) 14.2.1 20240912 (Red Hat 14.2.1-3)

Debian GNU/Linux 12
	Kernel: 5.15
	Compiler: gcc gcc (Debian 12.2.0-14+deb12u1) 12.2.0

Fedora Linux 41
	Kernel: 5.15
	Compiler: gcc gcc (GCC) 14.3.1 20250523 (Red Hat 14.3.1-1)

Red Hat Enterprise Linux 9.5
	Kernel: 5.15
	Compiler: gcc gcc (GCC) 11.5.0 20240719 (Red Hat 11.5.0-2)

Ubuntu 20.04
	Kernel: 5.15
	Compiler: gcc gcc (Ubuntu 9.4.0-1ubuntu1~20.04.2) 9.4.0

Ubuntu 22.04
	Kernel: 5.15
	Compiler: gcc gcc (Ubuntu 11.4.0-1ubuntu1~22.04) 11.4.0

Ubuntu 24.04
	Kernel: 5.15
	Compiler: gcc gcc (Ubuntu 13.3.0-6ubuntu2~24.04) 13.3.0

Red Hat Enterprise Linux 8.10
	Kernel: 5.15
	Compiler: gcc gcc (GCC) 8.5.0 20210514 (Red Hat 8.5.0-22)

Windows Server 2022
	Kernel: 10.0.20348.2031
	Compiler: clang 15.0.7, gcc 14.1.0 (MinGW), and MSVC VS 19.39.33521

To view detailed results, visit:
https://lab.dpdk.org/results/dashboard/patchsets/33590/

UNH-IOL DPDK Community Lab

To manage your email subscriptions, visit: 
https://lab.dpdk.org/results/dashboard/preferences/subscriptions/


More information about the test-report mailing list