|SUCCESS| pw155202 [PATCH] [RFC] doc: clarify VLAN and QinQ strippin

dpdklab at iol.unh.edu dpdklab at iol.unh.edu
Mon Jul 14 17:49:10 CEST 2025


Test-Label: iol-abi-testing
Test-Status: SUCCESS
http://dpdk.org/patch/155202

_Testing PASS_

Submitter: Bruce Richardson <bruce.richardson at intel.com>
Date: Monday, July 14 2025 13:30:14 
DPDK git baseline: Repo:dpdk
  Branch: master
  CommitID:9fe9c0b231c8da5435bfccb1963121b4277f961c

155202 --> testing pass

Upstream job id: Generic-DPDK-Compile-ABI#134300

Test environment and result as below:

+-------------------------------+----------+
|          Environment          | abi_test |
+===============================+==========+
| CentOS Stream 10              | PASS     |
+-------------------------------+----------+
| Debian GNU/Linux 12           | PASS     |
+-------------------------------+----------+
| CentOS Stream 9               | PASS     |
+-------------------------------+----------+
| Fedora Linux 41               | PASS     |
+-------------------------------+----------+
| Fedora Linux 40               | PASS     |
+-------------------------------+----------+
| Red Hat Enterprise Linux 8.10 | PASS     |
+-------------------------------+----------+
| openSUSE Leap 15.6            | PASS     |
+-------------------------------+----------+
| Ubuntu 24.04                  | PASS     |
+-------------------------------+----------+
| Ubuntu 22.04                  | PASS     |
+-------------------------------+----------+
| Red Hat Enterprise Linux 9.5  | PASS     |
+-------------------------------+----------+


CentOS Stream 10
	Kernel: 5.15
	Compiler: gcc gcc (GCC) 14.2.1 20250110 (Red Hat 14.2.1-8)

Debian GNU/Linux 12
	Kernel: 5.15
	Compiler: gcc gcc (Debian 12.2.0-14+deb12u1) 12.2.0

CentOS Stream 9
	Kernel: 5.15
	Compiler: gcc gcc (GCC) 11.5.0 20240719 (Red Hat 11.5.0-7)

Fedora Linux 41
	Kernel: 5.15
	Compiler: clang gcc (GCC) 14.3.1 20250523 (Red Hat 14.3.1-1)

Fedora Linux 40
	Kernel: 5.15
	Compiler: clang gcc (GCC) 14.2.1 20240912 (Red Hat 14.2.1-3)

Red Hat Enterprise Linux 8.10
	Kernel: 5.15
	Compiler: gcc gcc (GCC) 8.5.0 20210514 (Red Hat 8.5.0-22)

openSUSE Leap 15.6
	Kernel: 5.15
	Compiler: gcc gcc (SUSE Linux) 7.5.0

Ubuntu 24.04
	Kernel: 5.15
	Compiler: gcc gcc (Ubuntu 13.3.0-6ubuntu2~24.04) 13.3.0

Ubuntu 22.04
	Kernel: 5.15
	Compiler: gcc gcc (Ubuntu 11.4.0-1ubuntu1~22.04) 11.4.0

Red Hat Enterprise Linux 9.5
	Kernel: 5.15
	Compiler: gcc gcc (GCC) 11.5.0 20240719 (Red Hat 11.5.0-2)

To view detailed results, visit:
https://lab.dpdk.org/results/dashboard/patchsets/33649/

UNH-IOL DPDK Community Lab

To manage your email subscriptions, visit: 
https://lab.dpdk.org/results/dashboard/preferences/subscriptions/


More information about the test-report mailing list