|SUCCESS| pw155288 [PATCH] mailmap: fix entries with many aliases
dpdklab at iol.unh.edu
dpdklab at iol.unh.edu
Wed Jul 16 18:42:00 CEST 2025
Test-Label: iol-compile-amd64-testing
Test-Status: SUCCESS
http://dpdk.org/patch/155288
_Testing PASS_
Submitter: David Marchand <david.marchand at redhat.com>
Date: Wednesday, July 16 2025 14:41:59
DPDK git baseline: Repo:dpdk
Branch: master
CommitID:9fe9c0b231c8da5435bfccb1963121b4277f961c
155288 --> testing pass
Upstream job id: Windows-Compile-DPDK-Native#29819
Test environment and result as below:
+---------------------+-------------------+-------------------------+--------------------+----------------------+
| Environment | dpdk_msvc_compile | dpdk_llvm_clang_compile | dpdk_meson_compile | dpdk_mingw64_compile |
+=====================+===================+=========================+====================+======================+
| Windows Server 2022 | PASS | PASS | SKIPPED | PASS |
+---------------------+-------------------+-------------------------+--------------------+----------------------+
| FreeBSD 14.2 | SKIPPED | SKIPPED | PASS | SKIPPED |
+---------------------+-------------------+-------------------------+--------------------+----------------------+
| Ubuntu 20.04 | SKIPPED | SKIPPED | PASS | SKIPPED |
+---------------------+-------------------+-------------------------+--------------------+----------------------+
Windows Server 2022
Kernel: 10.0.20348.2031
Compiler: clang 15.0.7, gcc 14.1.0 (MinGW), and MSVC VS 19.39.33521
FreeBSD 14.2
Kernel: 14.2-RELEASE
Compiler: clang 18.1.6
Ubuntu 20.04
Kernel: 4.19
Compiler: gcc gcc (Ubuntu 9.4.0-1ubuntu1~20.04.2) 9.4.0
To view detailed results, visit:
https://lab.dpdk.org/results/dashboard/patchsets/33671/
UNH-IOL DPDK Community Lab
To manage your email subscriptions, visit:
https://lab.dpdk.org/results/dashboard/preferences/subscriptions/
More information about the test-report
mailing list