|SUCCESS| pw154050 [PATCH] net/mlx5: fix flag non-template rule clea
dpdklab at iol.unh.edu
dpdklab at iol.unh.edu
Thu Jun 5 16:48:10 CEST 2025
Test-Label: iol-compile-amd64-testing
Test-Status: SUCCESS
http://dpdk.org/patch/154050
_Testing PASS_
Submitter: Junfeng Guo <junfengg at nvidia.com>
Date: Thursday, June 05 2025 10:07:34
DPDK git baseline: Repo:dpdk
Branch: master
CommitID:1df06a4c5653f9d32aed174c863ec836af26a404
154050 --> testing pass
Upstream job id: Windows-Compile-DPDK-Native#28842
Test environment and result as below:
+---------------------+--------------------+-------------------+-------------------------+
| Environment | dpdk_meson_compile | dpdk_msvc_compile | dpdk_llvm_clang_compile |
+=====================+====================+===================+=========================+
| Ubuntu 20.04 | PASS | SKIPPED | SKIPPED |
+---------------------+--------------------+-------------------+-------------------------+
| FreeBSD 14.2 | PASS | SKIPPED | SKIPPED |
+---------------------+--------------------+-------------------+-------------------------+
| Windows Server 2022 | SKIPPED | PASS | PASS |
+---------------------+--------------------+-------------------+-------------------------+
Ubuntu 20.04
Kernel: 4.19
Compiler: gcc gcc (Ubuntu 9.4.0-1ubuntu1~20.04.2) 9.4.0
FreeBSD 14.2
Kernel: 14.2-RELEASE
Compiler: clang 18.1.6
Windows Server 2022
Kernel: 10.0.20348.2031
Compiler: clang 15.0.7, gcc 14.1.0 (MinGW), and MSVC VS 19.39.33521
To view detailed results, visit:
https://lab.dpdk.org/results/dashboard/patchsets/33329/
UNH-IOL DPDK Community Lab
To manage your email subscriptions, visit:
https://lab.dpdk.org/results/dashboard/preferences/subscriptions/
More information about the test-report
mailing list