|SUCCESS| pw154065-154071 [PATCH] [v12,7/7] test/graph_feature_arc: 
    dpdklab at iol.unh.edu 
    dpdklab at iol.unh.edu
       
    Thu Jun  5 21:06:02 CEST 2025
    
    
  
Test-Label: iol-compile-amd64-testing
Test-Status: SUCCESS
http://dpdk.org/patch/154071
_Testing PASS_
Submitter: Nitin Saxena <nsaxena at marvell.com>
Date: Thursday, June 05 2025 17:33:12 
DPDK git baseline: Repo:dpdk
  Branch: master
  CommitID:3c440cdfe87a2925af1be023e66bdf0bffc423a4
154065-154071 --> testing pass
Upstream job id: Windows-Compile-DPDK-Native#28849
Test environment and result as below:
+---------------------+-------------------+--------------------+----------------------+
|     Environment     | dpdk_msvc_compile | dpdk_meson_compile | dpdk_mingw64_compile |
+=====================+===================+====================+======================+
| Windows Server 2022 | PASS              | SKIPPED            | PASS                 |
+---------------------+-------------------+--------------------+----------------------+
| FreeBSD 14.2        | SKIPPED           | PASS               | SKIPPED              |
+---------------------+-------------------+--------------------+----------------------+
Windows Server 2022
	Kernel: 10.0.20348.2031
	Compiler: clang 15.0.7, gcc 14.1.0 (MinGW), and MSVC VS 19.39.33521
FreeBSD 14.2
	Kernel: 14.2-RELEASE
	Compiler: clang 18.1.6
To view detailed results, visit:
https://lab.dpdk.org/results/dashboard/patchsets/33336/
UNH-IOL DPDK Community Lab
To manage your email subscriptions, visit: 
https://lab.dpdk.org/results/dashboard/preferences/subscriptions/
    
    
More information about the test-report
mailing list