|SUCCESS| pw154049 [PATCH] [v2] app/crypto-perf: add support for RSA

dpdklab at iol.unh.edu dpdklab at iol.unh.edu
Fri Jun 6 07:39:11 CEST 2025


Test-Label: iol-compile-arm64-testing
Test-Status: SUCCESS
http://dpdk.org/patch/154049

_Testing PASS_

Submitter: Sucharitha Sarananaga <ssarananaga at marvell.com>
Date: Thursday, June 05 2025 09:24:04 
DPDK git baseline: Repo:dpdk
  Branch: master
  CommitID:d46cea98b08f1c418faaa7b5fcd24901fe055873

154049 --> testing pass

Upstream job id: Generic-DPDK-Compile-Meson#394677

Test environment and result as below:

+------------------------------+--------------------+
|         Environment          | dpdk_meson_compile |
+==============================+====================+
| Ubuntu 20.04                 | PASS               |
+------------------------------+--------------------+
| Debian GNU/Linux 12          | PASS               |
+------------------------------+--------------------+
| Red Hat Enterprise Linux 9.5 | PASS               |
+------------------------------+--------------------+
| Fedora 40 (ARM)              | PASS               |
+------------------------------+--------------------+
| Fedora 40 (ARM Clang)        | PASS               |
+------------------------------+--------------------+
| Fedora 41 (ARM)              | PASS               |
+------------------------------+--------------------+
| Fedora 41 (ARM Clang)        | PASS               |
+------------------------------+--------------------+
| Ubuntu 22.04                 | PASS               |
+------------------------------+--------------------+
| CentOS Stream 9 (ARM)        | PASS               |
+------------------------------+--------------------+
| CentOS Stream 10 (ARM)       | PASS               |
+------------------------------+--------------------+


Ubuntu 20.04
	Kernel: 5.4
	Compiler: gcc gcc (Ubuntu 9.4.0-1ubuntu1~20.04.2) 9.4.0

Debian GNU/Linux 12
	Kernel: 5.4
	Compiler: gcc gcc (Debian 12.2.0-14) 12.2.0

Red Hat Enterprise Linux 9.5
	Kernel: 5.4
	Compiler: gcc gcc (GCC) 11.5.0 20240719 (Red Hat 11.5.0-2)

Fedora 40 (ARM)
	Kernel: Depends on container host
	Compiler: gcc 14.2.1 20240912 (Red Hat 14.2.1-3)

Fedora 40 (ARM Clang)
	Kernel: Depends on container host
	Compiler: clang 18.1.8 (Fedora 18.1.8-1.fc40)

Fedora 41 (ARM)
	Kernel: Depends on container host
	Compiler: gcc 14.2.1 20240912 (Red Hat 14.2.1-3)

Fedora 41 (ARM Clang)
	Kernel: Depends on container host
	Compiler: clang 19.1.5 (Fedora 19.1.5-1.fc41)

Ubuntu 22.04
	Kernel: 5.4
	Compiler: gcc gcc (Ubuntu 11.4.0-1ubuntu1~22.04) 11.4.0

CentOS Stream 9 (ARM)
	Kernel: Depends on container host
	Compiler: gcc 11.5.0 20240719 (Red Hat 11.5.0-2)

CentOS Stream 10 (ARM)
	Kernel: Depends on container host
	Compiler: gcc 14.2.1 20241104 (Red Hat 14.2.1-6)

To view detailed results, visit:
https://lab.dpdk.org/results/dashboard/patchsets/33328/

UNH-IOL DPDK Community Lab

To manage your email subscriptions, visit: 
https://lab.dpdk.org/results/dashboard/preferences/subscriptions/


More information about the test-report mailing list