|SUCCESS| pw154196-154195 [PATCH] [3/3] net/hns3: fix can't use vect
dpdklab at iol.unh.edu
dpdklab at iol.unh.edu
Mon Jun 9 17:54:41 CEST 2025
Test-Label: iol-compile-amd64-testing
Test-Status: SUCCESS
http://dpdk.org/patch/154195
_Testing PASS_
Submitter: Dengdui Huang <huangdengdui at huawei.com>
Date: Monday, June 09 2025 13:06:51
DPDK git baseline: Repo:dpdk
Branch: master
CommitID:6f2a5eccc8fd2f2d51a0fcc0e76ec9784fe2e047
154196-154195 --> testing pass
Upstream job id: Windows-Compile-DPDK-VS#5947
Test environment and result as below:
+---------------------+--------------------+-------------------+
| Environment | dpdk_meson_compile | dpdk_msvc_compile |
+=====================+====================+===================+
| Ubuntu 20.04 | PASS | SKIPPED |
+---------------------+--------------------+-------------------+
| FreeBSD 14.2 | PASS | SKIPPED |
+---------------------+--------------------+-------------------+
| Windows Server 2022 | SKIPPED | PASS |
+---------------------+--------------------+-------------------+
Ubuntu 20.04
Kernel: 4.19
Compiler: gcc gcc (Ubuntu 9.4.0-1ubuntu1~20.04.2) 9.4.0
FreeBSD 14.2
Kernel: 14.2-RELEASE
Compiler: clang 18.1.6
Windows Server 2022
Kernel: 10.0.20348.2031
Compiler: clang 15.0.7, gcc 14.1.0 (MinGW), and MSVC VS 19.39.33521
To view detailed results, visit:
https://lab.dpdk.org/results/dashboard/patchsets/33361/
UNH-IOL DPDK Community Lab
To manage your email subscriptions, visit:
https://lab.dpdk.org/results/dashboard/preferences/subscriptions/
More information about the test-report
mailing list