|SUCCESS| pw154180-154181 [PATCH] [v1,2/2] net/e1000: update README
dpdklab at iol.unh.edu
dpdklab at iol.unh.edu
Mon Jun 9 22:42:24 CEST 2025
Test-Label: iol-unit-amd64-testing
Test-Status: SUCCESS
http://dpdk.org/patch/154181
_Testing PASS_
Submitter: Anatoly Burakov <anatoly.burakov at intel.com>
Date: Monday, June 09 2025 10:16:42
DPDK git baseline: Repo:dpdk
Branch: master
CommitID:398bb775edc5434ad94578a5e6c49fa1328acc0f
154180-154181 --> testing pass
Upstream job id: Generic-VM-Unit-Test-DPDK#29054
Test environment and result as below:
+-------------------------------+----------------+
| Environment | dpdk_unit_test |
+===============================+================+
| Fedora 40 (Clang) | PASS |
+-------------------------------+----------------+
| CentOS Stream 10 | PASS |
+-------------------------------+----------------+
| CentOS Stream 9 | PASS |
+-------------------------------+----------------+
| Debian GNU/Linux 12 | PASS |
+-------------------------------+----------------+
| Fedora 41 | PASS |
+-------------------------------+----------------+
| Fedora 40 | PASS |
+-------------------------------+----------------+
| Red Hat Enterprise Linux 9.5 | PASS |
+-------------------------------+----------------+
| Red Hat Enterprise Linux 8.10 | PASS |
+-------------------------------+----------------+
| Fedora 41 (Clang) | PASS |
+-------------------------------+----------------+
| Ubuntu 22.04 | PASS |
+-------------------------------+----------------+
| Ubuntu 20.04 | PASS |
+-------------------------------+----------------+
| Ubuntu 24.04 | PASS |
+-------------------------------+----------------+
| Windows Server 2022 | PASS |
+-------------------------------+----------------+
Fedora 40 (Clang)
Kernel: Depends on container host
Compiler: clang 18.1.8 (Fedora 18.1.8-1.fc40)
CentOS Stream 10
Kernel: Depends on container host
Compiler: gcc 14.2.1 20241104 (Red Hat 14.2.1-6)
CentOS Stream 9
Kernel: Depends on container host
Compiler: gcc 11.5.0 20240719 (Red Hat 11.5.0-2)
Debian GNU/Linux 12
Kernel: 5.15
Compiler: gcc gcc (Debian 12.2.0-14) 12.2.0
Fedora 41
Kernel: Depends on container host
Compiler: gcc 14.2.1 20240912 (Red Hat 14.2.1-3)
Fedora 40
Kernel: Depends on container host
Compiler: gcc 14.2.1 20240912 (Red Hat 14.2.1-3)
Red Hat Enterprise Linux 9.5
Kernel: 5.15
Compiler: gcc gcc (GCC) 11.5.0 20240719 (Red Hat 11.5.0-2)
Red Hat Enterprise Linux 8.10
Kernel: 5.15
Compiler: gcc gcc (GCC) 8.5.0 20210514 (Red Hat 8.5.0-22)
Fedora 41 (Clang)
Kernel: Depends on container host
Compiler: clang 19.1.5 (Fedora 19.1.5-1.fc41)
Ubuntu 22.04
Kernel: 5.15
Compiler: gcc gcc (Ubuntu 11.4.0-1ubuntu1~22.04) 11.4.0
Ubuntu 20.04
Kernel: 5.15
Compiler: gcc gcc (Ubuntu 9.4.0-1ubuntu1~20.04.2) 9.4.0
Ubuntu 24.04
Kernel: 5.15
Compiler: gcc gcc (Ubuntu 13.3.0-6ubuntu2~24.04) 13.3.0
Windows Server 2022
Kernel: 10.0.20348.2031
Compiler: clang 15.0.7, gcc 14.1.0 (MinGW), and MSVC VS 19.39.33521
To view detailed results, visit:
https://lab.dpdk.org/results/dashboard/patchsets/33358/
UNH-IOL DPDK Community Lab
To manage your email subscriptions, visit:
https://lab.dpdk.org/results/dashboard/preferences/subscriptions/
More information about the test-report
mailing list