|WARNING| pw154321-154325 [PATCH] [v7,5/5] usertools: enable pmdinfo

dpdklab at iol.unh.edu dpdklab at iol.unh.edu
Wed Jun 11 19:10:03 CEST 2025


Test-Label: iol-compile-amd64-testing
Test-Status: WARNING
http://dpdk.org/patch/154325

_Testing issues_

Submitter: David Marchand <david.marchand at redhat.com>
Date: Wednesday, June 11 2025 09:45:32 
DPDK git baseline: Repo:dpdk
  Branch: master
  CommitID:321f0a60005e7d3192300988b6a31e2a50945c4b

154321-154325 --> testing issues

Upstream job id: Generic-DPDK-Compile-Meson#396434

Test environment and result as below:

+-------------------------------+-------------------------+-------------------+--------------------+----------------------+-------------------+------------------+
|          Environment          | dpdk_llvm_clang_compile | dpdk_msvc_compile | dpdk_meson_compile | dpdk_mingw64_compile | dpdk_compile_spdk | dpdk_compile_ovs |
+===============================+=========================+===================+====================+======================+===================+==================+
| Windows Server 2022           | PASS                    | PASS              | SKIPPED            | PASS                 | SKIPPED           | SKIPPED          |
+-------------------------------+-------------------------+-------------------+--------------------+----------------------+-------------------+------------------+
| FreeBSD 14.2                  | SKIPPED                 | SKIPPED           | PASS               | SKIPPED              | SKIPPED           | SKIPPED          |
+-------------------------------+-------------------------+-------------------+--------------------+----------------------+-------------------+------------------+
| CentOS Stream 9               | SKIPPED                 | SKIPPED           | PEND               | SKIPPED              | PEND              | SKIPPED          |
+-------------------------------+-------------------------+-------------------+--------------------+----------------------+-------------------+------------------+
| CentOS Stream 10              | SKIPPED                 | SKIPPED           | PASS               | SKIPPED              | SKIPPED           | SKIPPED          |
+-------------------------------+-------------------------+-------------------+--------------------+----------------------+-------------------+------------------+
| Debian GNU/Linux 12           | SKIPPED                 | SKIPPED           | PEND               | SKIPPED              | PEND              | SKIPPED          |
+-------------------------------+-------------------------+-------------------+--------------------+----------------------+-------------------+------------------+
| Fedora 40 (Clang)             | SKIPPED                 | SKIPPED           | PASS               | SKIPPED              | WARN              | SKIPPED          |
+-------------------------------+-------------------------+-------------------+--------------------+----------------------+-------------------+------------------+
| Fedora 40                     | SKIPPED                 | SKIPPED           | PEND               | SKIPPED              | PEND              | SKIPPED          |
+-------------------------------+-------------------------+-------------------+--------------------+----------------------+-------------------+------------------+
| Fedora 41 (Clang)             | SKIPPED                 | SKIPPED           | PEND               | SKIPPED              | PEND              | PEND             |
+-------------------------------+-------------------------+-------------------+--------------------+----------------------+-------------------+------------------+
| Fedora 41                     | SKIPPED                 | SKIPPED           | PEND               | SKIPPED              | PEND              | PEND             |
+-------------------------------+-------------------------+-------------------+--------------------+----------------------+-------------------+------------------+
| openSUSE Leap 15.6            | SKIPPED                 | SKIPPED           | PASS               | SKIPPED              | SKIPPED           | SKIPPED          |
+-------------------------------+-------------------------+-------------------+--------------------+----------------------+-------------------+------------------+
| Red Hat Enterprise Linux 8.10 | SKIPPED                 | SKIPPED           | PASS               | SKIPPED              | SKIPPED           | SKIPPED          |
+-------------------------------+-------------------------+-------------------+--------------------+----------------------+-------------------+------------------+
| Red Hat Enterprise Linux 9.5  | SKIPPED                 | SKIPPED           | PASS               | SKIPPED              | SKIPPED           | SKIPPED          |
+-------------------------------+-------------------------+-------------------+--------------------+----------------------+-------------------+------------------+
| Ubuntu 20.04                  | SKIPPED                 | SKIPPED           | PASS               | SKIPPED              | SKIPPED           | SKIPPED          |
+-------------------------------+-------------------------+-------------------+--------------------+----------------------+-------------------+------------------+
| Ubuntu 22.04                  | SKIPPED                 | SKIPPED           | PEND               | SKIPPED              | PEND              | SKIPPED          |
+-------------------------------+-------------------------+-------------------+--------------------+----------------------+-------------------+------------------+
| Ubuntu 24.04                  | SKIPPED                 | SKIPPED           | PEND               | SKIPPED              | PEND              | PEND             |
+-------------------------------+-------------------------+-------------------+--------------------+----------------------+-------------------+------------------+
| Alpine                        | SKIPPED                 | SKIPPED           | PEND               | SKIPPED              | SKIPPED           | SKIPPED          |
+-------------------------------+-------------------------+-------------------+--------------------+----------------------+-------------------+------------------+

==== 20 line log output for Fedora 40 (Clang) (dpdk_compile_spdk): ====
 --- Failed to get log output --- 
==== End log output ====

Windows Server 2022
	Kernel: 10.0.20348.2031
	Compiler: clang 15.0.7, gcc 14.1.0 (MinGW), and MSVC VS 19.39.33521

FreeBSD 14.2
	Kernel: 14.2-RELEASE
	Compiler: clang 18.1.6

CentOS Stream 9
	Kernel: Depends on container host
	Compiler: gcc 11.5.0 20240719 (Red Hat 11.5.0-2)

CentOS Stream 10
	Kernel: Depends on container host
	Compiler: gcc 14.2.1 20241104 (Red Hat 14.2.1-6)

Debian GNU/Linux 12
	Kernel: 5.15
	Compiler: gcc gcc (Debian 12.2.0-14) 12.2.0

Fedora 40 (Clang)
	Kernel: Depends on container host
	Compiler: clang 18.1.8 (Fedora 18.1.8-1.fc40)

Fedora 40
	Kernel: Depends on container host
	Compiler: gcc 14.2.1 20240912 (Red Hat 14.2.1-3)

Fedora 41 (Clang)
	Kernel: Depends on container host
	Compiler: clang 19.1.5 (Fedora 19.1.5-1.fc41)

Fedora 41
	Kernel: Depends on container host
	Compiler: gcc 14.2.1 20240912 (Red Hat 14.2.1-3)

openSUSE Leap 15.6
	Kernel: 5.15
	Compiler: gcc gcc (SUSE Linux) 7.5.0

Red Hat Enterprise Linux 8.10
	Kernel: 5.15
	Compiler: gcc gcc (GCC) 8.5.0 20210514 (Red Hat 8.5.0-22)

Red Hat Enterprise Linux 9.5
	Kernel: 5.15
	Compiler: gcc gcc (GCC) 11.5.0 20240719 (Red Hat 11.5.0-2)

Ubuntu 20.04
	Kernel: 5.15
	Compiler: gcc gcc (Ubuntu 9.4.0-1ubuntu1~20.04.2) 9.4.0

Ubuntu 22.04
	Kernel: 5.15
	Compiler: gcc gcc (Ubuntu 11.4.0-1ubuntu1~22.04) 11.4.0

Ubuntu 24.04
	Kernel: 5.15
	Compiler: gcc gcc (Ubuntu 13.3.0-6ubuntu2~24.04) 13.3.0

Alpine
	Kernel: Depends on container host
	Compiler: gcc (Alpine 14.2.0) 14.2.0

To view detailed results, visit:
https://lab.dpdk.org/results/dashboard/patchsets/33385/

UNH-IOL DPDK Community Lab

To manage your email subscriptions, visit: 
https://lab.dpdk.org/results/dashboard/preferences/subscriptions/


More information about the test-report mailing list