|SUCCESS| pw154318-154320 [PATCH] [6/6] net/hns3: VF support multi-T

dpdklab at iol.unh.edu dpdklab at iol.unh.edu
Wed Jun 11 22:45:46 CEST 2025


Test-Label: iol-unit-arm64-testing
Test-Status: SUCCESS
http://dpdk.org/patch/154320

_Testing PASS_

Submitter: Dengdui Huang <huangdengdui at huawei.com>
Date: Wednesday, June 11 2025 08:19:00 
DPDK git baseline: Repo:dpdk
  Branch: master
  CommitID:ae29f5873362938994cd9a0948a8746d25d79e7d

154318-154320 --> testing pass

Upstream job id: Generic-Unit-Test-DPDK#345024

Test environment and result as below:

+------------------------------+--------------+---------------------------+------------------------------+----------------+
|         Environment          | lpm_autotest | cryptodev_sw_zuc_autotest | cryptodev_sw_snow3g_autotest | dpdk_unit_test |
+==============================+==============+===========================+==============================+================+
| Ubuntu 20.04                 | PASS         | SKIPPED                   | SKIPPED                      | PASS           |
+------------------------------+--------------+---------------------------+------------------------------+----------------+
| Debian 12 (arm)              | SKIPPED      | PASS                      | PASS                         | SKIPPED        |
+------------------------------+--------------+---------------------------+------------------------------+----------------+
| CentOS Stream 9 (ARM)        | SKIPPED      | SKIPPED                   | SKIPPED                      | PASS           |
+------------------------------+--------------+---------------------------+------------------------------+----------------+
| CentOS Stream 10 (ARM)       | SKIPPED      | SKIPPED                   | SKIPPED                      | PASS           |
+------------------------------+--------------+---------------------------+------------------------------+----------------+
| Debian GNU/Linux 12          | SKIPPED      | SKIPPED                   | SKIPPED                      | PASS           |
+------------------------------+--------------+---------------------------+------------------------------+----------------+
| Fedora 40 (ARM)              | SKIPPED      | SKIPPED                   | SKIPPED                      | PASS           |
+------------------------------+--------------+---------------------------+------------------------------+----------------+
| Fedora 41 (ARM)              | SKIPPED      | SKIPPED                   | SKIPPED                      | PASS           |
+------------------------------+--------------+---------------------------+------------------------------+----------------+
| Fedora 40 (ARM Clang)        | SKIPPED      | SKIPPED                   | SKIPPED                      | PASS           |
+------------------------------+--------------+---------------------------+------------------------------+----------------+
| Ubuntu 22.04                 | SKIPPED      | SKIPPED                   | SKIPPED                      | PASS           |
+------------------------------+--------------+---------------------------+------------------------------+----------------+
| Red Hat Enterprise Linux 9.5 | SKIPPED      | SKIPPED                   | SKIPPED                      | PASS           |
+------------------------------+--------------+---------------------------+------------------------------+----------------+
| Ubuntu 24.04                 | SKIPPED      | SKIPPED                   | SKIPPED                      | PASS           |
+------------------------------+--------------+---------------------------+------------------------------+----------------+
| Fedora 41 (ARM Clang)        | SKIPPED      | SKIPPED                   | SKIPPED                      | PASS           |
+------------------------------+--------------+---------------------------+------------------------------+----------------+


Ubuntu 20.04
	Kernel: 5.4
	Compiler: gcc gcc (Ubuntu 9.4.0-1ubuntu1~20.04.2) 9.4.0

Debian 12 (arm)
	Kernel: Depends on container host
	Compiler: gcc (Debian 12.2.0-14) 12.2.0

CentOS Stream 9 (ARM)
	Kernel: Depends on container host
	Compiler: gcc 11.5.0 20240719 (Red Hat 11.5.0-2)

CentOS Stream 10 (ARM)
	Kernel: Depends on container host
	Compiler: gcc 14.2.1 20241104 (Red Hat 14.2.1-6)

Debian GNU/Linux 12
	Kernel: 5.4
	Compiler: gcc gcc (Debian 12.2.0-14) 12.2.0

Fedora 40 (ARM)
	Kernel: Depends on container host
	Compiler: gcc 14.2.1 20240912 (Red Hat 14.2.1-3)

Fedora 41 (ARM)
	Kernel: Depends on container host
	Compiler: gcc 14.2.1 20240912 (Red Hat 14.2.1-3)

Fedora 40 (ARM Clang)
	Kernel: Depends on container host
	Compiler: clang 18.1.8 (Fedora 18.1.8-1.fc40)

Ubuntu 22.04
	Kernel: 5.4
	Compiler: gcc gcc (Ubuntu 11.4.0-1ubuntu1~22.04) 11.4.0

Red Hat Enterprise Linux 9.5
	Kernel: 5.4
	Compiler: gcc gcc (GCC) 11.5.0 20240719 (Red Hat 11.5.0-2)

Ubuntu 24.04
	Kernel: 5.4
	Compiler: gcc gcc (Ubuntu 13.3.0-6ubuntu2~24.04) 13.3.0

Fedora 41 (ARM Clang)
	Kernel: Depends on container host
	Compiler: clang 19.1.5 (Fedora 19.1.5-1.fc41)

To view detailed results, visit:
https://lab.dpdk.org/results/dashboard/patchsets/33384/

UNH-IOL DPDK Community Lab

To manage your email subscriptions, visit: 
https://lab.dpdk.org/results/dashboard/preferences/subscriptions/


More information about the test-report mailing list