|SUCCESS| pw154349 [PATCH] more replace memcpy with structure assign
dpdklab at iol.unh.edu
dpdklab at iol.unh.edu
Thu Jun 12 06:26:28 CEST 2025
Test-Label: iol-compile-amd64-testing
Test-Status: SUCCESS
http://dpdk.org/patch/154349
_Testing PASS_
Submitter: Stephen Hemminger <stephen at networkplumber.org>
Date: Thursday, June 12 2025 03:08:51
DPDK git baseline: Repo:dpdk
Branch: master
CommitID:cbb430ccf3fc9f1369fbc70bb187322c28d278fd
154349 --> testing pass
Upstream job id: Windows-Compile-DPDK-Native#28982
Test environment and result as below:
+---------------------+-------------------------+-------------------+--------------------+----------------------+
| Environment | dpdk_llvm_clang_compile | dpdk_msvc_compile | dpdk_meson_compile | dpdk_mingw64_compile |
+=====================+=========================+===================+====================+======================+
| Windows Server 2022 | PASS | PASS | SKIPPED | PASS |
+---------------------+-------------------------+-------------------+--------------------+----------------------+
| FreeBSD 14.2 | SKIPPED | SKIPPED | PASS | SKIPPED |
+---------------------+-------------------------+-------------------+--------------------+----------------------+
Windows Server 2022
Kernel: 10.0.20348.2031
Compiler: clang 15.0.7, gcc 14.1.0 (MinGW), and MSVC VS 19.39.33521
FreeBSD 14.2
Kernel: 14.2-RELEASE
Compiler: clang 18.1.6
To view detailed results, visit:
https://lab.dpdk.org/results/dashboard/patchsets/33393/
UNH-IOL DPDK Community Lab
To manage your email subscriptions, visit:
https://lab.dpdk.org/results/dashboard/preferences/subscriptions/
More information about the test-report
mailing list