|SUCCESS| pw154407 [PATCH] [v2] eal: handle sysconf(_SC_PAGESIZE) ne

dpdklab at iol.unh.edu dpdklab at iol.unh.edu
Thu Jun 12 17:17:21 CEST 2025


Test-Label: iol-compile-amd64-testing
Test-Status: SUCCESS
http://dpdk.org/patch/154407

_Testing PASS_

Submitter: Morten Brorup <mb at smartsharesystems.com>
Date: Thursday, June 12 2025 14:06:57 
DPDK git baseline: Repo:dpdk
  Branch: master
  CommitID:dbeb8ae8d09387bd525353f4a5aa6ec152cddffa

154407 --> testing pass

Upstream job id: Windows-Compile-DPDK-VS#5990

Test environment and result as below:

+---------------------+-------------------------+-------------------+--------------------+
|     Environment     | dpdk_llvm_clang_compile | dpdk_msvc_compile | dpdk_meson_compile |
+=====================+=========================+===================+====================+
| Windows Server 2022 | PASS                    | PASS              | SKIPPED            |
+---------------------+-------------------------+-------------------+--------------------+
| FreeBSD 14.2        | SKIPPED                 | SKIPPED           | PASS               |
+---------------------+-------------------------+-------------------+--------------------+


Windows Server 2022
	Kernel: 10.0.20348.2031
	Compiler: clang 15.0.7, gcc 14.1.0 (MinGW), and MSVC VS 19.39.33521

FreeBSD 14.2
	Kernel: 14.2-RELEASE
	Compiler: clang 18.1.6

To view detailed results, visit:
https://lab.dpdk.org/results/dashboard/patchsets/33401/

UNH-IOL DPDK Community Lab

To manage your email subscriptions, visit: 
https://lab.dpdk.org/results/dashboard/preferences/subscriptions/


More information about the test-report mailing list