|WARNING| pw154370-154402 [PATCH] [v7,33/33] net/intel: add common T

dpdklab at iol.unh.edu dpdklab at iol.unh.edu
Thu Jun 12 19:26:18 CEST 2025


Test-Label: iol-compile-amd64-testing
Test-Status: WARNING
http://dpdk.org/patch/154402

_Testing issues_

Submitter: Burakov, Anatoly <anatoly.burakov at intel.com>
Date: Thursday, June 12 2025 11:11:39 
DPDK git baseline: Repo:dpdk
  Branch: master
  CommitID:cbb430ccf3fc9f1369fbc70bb187322c28d278fd

154370-154402 --> testing issues

Upstream job id: Generic-DPDK-Compile-Meson#396910

Test environment and result as below:

+-------------------------------+-------------------+--------------------+-------------------------+----------------------+-------------------+------------------+
|          Environment          | dpdk_msvc_compile | dpdk_meson_compile | dpdk_llvm_clang_compile | dpdk_mingw64_compile | dpdk_compile_spdk | dpdk_compile_ovs |
+===============================+===================+====================+=========================+======================+===================+==================+
| Windows Server 2022           | PASS              | SKIPPED            | PASS                    | PASS                 | SKIPPED           | SKIPPED          |
+-------------------------------+-------------------+--------------------+-------------------------+----------------------+-------------------+------------------+
| FreeBSD 14.2                  | SKIPPED           | PASS               | SKIPPED                 | SKIPPED              | SKIPPED           | SKIPPED          |
+-------------------------------+-------------------+--------------------+-------------------------+----------------------+-------------------+------------------+
| CentOS Stream 9               | SKIPPED           | PASS               | SKIPPED                 | SKIPPED              | PASS              | SKIPPED          |
+-------------------------------+-------------------+--------------------+-------------------------+----------------------+-------------------+------------------+
| CentOS Stream 10              | SKIPPED           | PASS               | SKIPPED                 | SKIPPED              | SKIPPED           | SKIPPED          |
+-------------------------------+-------------------+--------------------+-------------------------+----------------------+-------------------+------------------+
| Debian GNU/Linux 12           | SKIPPED           | PASS               | SKIPPED                 | SKIPPED              | PASS              | SKIPPED          |
+-------------------------------+-------------------+--------------------+-------------------------+----------------------+-------------------+------------------+
| Fedora 40 (Clang)             | SKIPPED           | PASS               | SKIPPED                 | SKIPPED              | WARN              | SKIPPED          |
+-------------------------------+-------------------+--------------------+-------------------------+----------------------+-------------------+------------------+
| Fedora 40                     | SKIPPED           | PASS               | SKIPPED                 | SKIPPED              | PASS              | SKIPPED          |
+-------------------------------+-------------------+--------------------+-------------------------+----------------------+-------------------+------------------+
| Fedora 41 (Clang)             | SKIPPED           | PASS               | SKIPPED                 | SKIPPED              | WARN              | PASS             |
+-------------------------------+-------------------+--------------------+-------------------------+----------------------+-------------------+------------------+
| Fedora 41                     | SKIPPED           | PASS               | SKIPPED                 | SKIPPED              | PASS              | PASS             |
+-------------------------------+-------------------+--------------------+-------------------------+----------------------+-------------------+------------------+
| openSUSE Leap 15.6            | SKIPPED           | PASS               | SKIPPED                 | SKIPPED              | SKIPPED           | SKIPPED          |
+-------------------------------+-------------------+--------------------+-------------------------+----------------------+-------------------+------------------+
| Red Hat Enterprise Linux 8.10 | SKIPPED           | PASS               | SKIPPED                 | SKIPPED              | SKIPPED           | SKIPPED          |
+-------------------------------+-------------------+--------------------+-------------------------+----------------------+-------------------+------------------+
| Red Hat Enterprise Linux 9.5  | SKIPPED           | PASS               | SKIPPED                 | SKIPPED              | SKIPPED           | SKIPPED          |
+-------------------------------+-------------------+--------------------+-------------------------+----------------------+-------------------+------------------+
| Ubuntu 20.04                  | SKIPPED           | PASS               | SKIPPED                 | SKIPPED              | SKIPPED           | SKIPPED          |
+-------------------------------+-------------------+--------------------+-------------------------+----------------------+-------------------+------------------+
| Ubuntu 22.04                  | SKIPPED           | PASS               | SKIPPED                 | SKIPPED              | PASS              | SKIPPED          |
+-------------------------------+-------------------+--------------------+-------------------------+----------------------+-------------------+------------------+
| Ubuntu 24.04                  | SKIPPED           | PASS               | SKIPPED                 | SKIPPED              | PASS              | PASS             |
+-------------------------------+-------------------+--------------------+-------------------------+----------------------+-------------------+------------------+
| Alpine                        | SKIPPED           | PASS               | SKIPPED                 | SKIPPED              | SKIPPED           | SKIPPED          |
+-------------------------------+-------------------+--------------------+-------------------------+----------------------+-------------------+------------------+

==== 20 line log output for Fedora 41 (Clang) (dpdk_compile_spdk): ====
 --- Failed to get log output --- 
==== End log output ====

Windows Server 2022
	Kernel: 10.0.20348.2031
	Compiler: clang 15.0.7, gcc 14.1.0 (MinGW), and MSVC VS 19.39.33521

FreeBSD 14.2
	Kernel: 14.2-RELEASE
	Compiler: clang 18.1.6

CentOS Stream 9
	Kernel: Depends on container host
	Compiler: gcc 11.5.0 20240719 (Red Hat 11.5.0-2)

CentOS Stream 10
	Kernel: Depends on container host
	Compiler: gcc 14.2.1 20241104 (Red Hat 14.2.1-6)

Debian GNU/Linux 12
	Kernel: 5.15
	Compiler: gcc gcc (Debian 12.2.0-14) 12.2.0

Fedora 40 (Clang)
	Kernel: Depends on container host
	Compiler: clang 18.1.8 (Fedora 18.1.8-1.fc40)

Fedora 40
	Kernel: Depends on container host
	Compiler: gcc 14.2.1 20240912 (Red Hat 14.2.1-3)

Fedora 41 (Clang)
	Kernel: Depends on container host
	Compiler: clang 19.1.5 (Fedora 19.1.5-1.fc41)

Fedora 41
	Kernel: Depends on container host
	Compiler: gcc 14.2.1 20240912 (Red Hat 14.2.1-3)

openSUSE Leap 15.6
	Kernel: 5.15
	Compiler: gcc gcc (SUSE Linux) 7.5.0

Red Hat Enterprise Linux 8.10
	Kernel: 5.15
	Compiler: gcc gcc (GCC) 8.5.0 20210514 (Red Hat 8.5.0-22)

Red Hat Enterprise Linux 9.5
	Kernel: 5.15
	Compiler: gcc gcc (GCC) 11.5.0 20240719 (Red Hat 11.5.0-2)

Ubuntu 20.04
	Kernel: 5.15
	Compiler: gcc gcc (Ubuntu 9.4.0-1ubuntu1~20.04.2) 9.4.0

Ubuntu 22.04
	Kernel: 5.15
	Compiler: gcc gcc (Ubuntu 11.4.0-1ubuntu1~22.04) 11.4.0

Ubuntu 24.04
	Kernel: 5.15
	Compiler: gcc gcc (Ubuntu 13.3.0-6ubuntu2~24.04) 13.3.0

Alpine
	Kernel: Depends on container host
	Compiler: gcc (Alpine 14.2.0) 14.2.0

To view detailed results, visit:
https://lab.dpdk.org/results/dashboard/patchsets/33398/

UNH-IOL DPDK Community Lab

To manage your email subscriptions, visit: 
https://lab.dpdk.org/results/dashboard/preferences/subscriptions/


More information about the test-report mailing list