|SUCCESS| pw154412 [PATCH] [v4] event/cnxk: add event vector adapter

dpdklab at iol.unh.edu dpdklab at iol.unh.edu
Thu Jun 12 20:28:29 CEST 2025


Test-Label: iol-compile-amd64-testing
Test-Status: SUCCESS
http://dpdk.org/patch/154412

_Testing PASS_

Submitter: Pavan Nikhilesh Bhagavatula <pbhagavatula at marvell.com>
Date: Thursday, June 12 2025 17:09:22 
DPDK git baseline: Repo:dpdk
  Branch: master
  CommitID:794cce6797bbec2bd290573cfafe71a5a41ea9d5

154412 --> testing pass

Upstream job id: Windows-Compile-DPDK-Native#29004

Test environment and result as below:

+---------------------+-------------------------+-------------------+--------------------+----------------------+
|     Environment     | dpdk_llvm_clang_compile | dpdk_msvc_compile | dpdk_meson_compile | dpdk_mingw64_compile |
+=====================+=========================+===================+====================+======================+
| Windows Server 2022 | PASS                    | PASS              | SKIPPED            | PASS                 |
+---------------------+-------------------------+-------------------+--------------------+----------------------+
| FreeBSD 14.2        | SKIPPED                 | SKIPPED           | PASS               | SKIPPED              |
+---------------------+-------------------------+-------------------+--------------------+----------------------+


Windows Server 2022
	Kernel: 10.0.20348.2031
	Compiler: clang 15.0.7, gcc 14.1.0 (MinGW), and MSVC VS 19.39.33521

FreeBSD 14.2
	Kernel: 14.2-RELEASE
	Compiler: clang 18.1.6

To view detailed results, visit:
https://lab.dpdk.org/results/dashboard/patchsets/33404/

UNH-IOL DPDK Community Lab

To manage your email subscriptions, visit: 
https://lab.dpdk.org/results/dashboard/preferences/subscriptions/


More information about the test-report mailing list