|SUCCESS| pw154414-154415 [PATCH] [2/2] latencystats: optimize locki

dpdklab at iol.unh.edu dpdklab at iol.unh.edu
Fri Jun 13 03:34:28 CEST 2025


Test-Label: iol-compile-amd64-testing
Test-Status: SUCCESS
http://dpdk.org/patch/154415

_Testing PASS_

Submitter: Stephen Hemminger <stephen at networkplumber.org>
Date: Friday, June 13 2025 00:34:26 
DPDK git baseline: Repo:dpdk
  Branch: master
  CommitID:dbeb8ae8d09387bd525353f4a5aa6ec152cddffa

154414-154415 --> testing pass

Upstream job id: Windows-Compile-DPDK-Native#29009

Test environment and result as below:

+---------------------+-------------------+-------------------------+--------------------+
|     Environment     | dpdk_msvc_compile | dpdk_llvm_clang_compile | dpdk_meson_compile |
+=====================+===================+=========================+====================+
| Windows Server 2022 | PASS              | PASS                    | SKIPPED            |
+---------------------+-------------------+-------------------------+--------------------+
| FreeBSD 14.2        | SKIPPED           | SKIPPED                 | PASS               |
+---------------------+-------------------+-------------------------+--------------------+


Windows Server 2022
	Kernel: 10.0.20348.2031
	Compiler: clang 15.0.7, gcc 14.1.0 (MinGW), and MSVC VS 19.39.33521

FreeBSD 14.2
	Kernel: 14.2-RELEASE
	Compiler: clang 18.1.6

To view detailed results, visit:
https://lab.dpdk.org/results/dashboard/patchsets/33406/

UNH-IOL DPDK Community Lab

To manage your email subscriptions, visit: 
https://lab.dpdk.org/results/dashboard/preferences/subscriptions/


More information about the test-report mailing list