|SUCCESS| pw154412 [PATCH] [v4] event/cnxk: add event vector adapter

dpdklab at iol.unh.edu dpdklab at iol.unh.edu
Fri Jun 13 06:20:17 CEST 2025


Test-Label: iol-unit-arm64-testing
Test-Status: SUCCESS
http://dpdk.org/patch/154412

_Testing PASS_

Submitter: Pavan Nikhilesh Bhagavatula <pbhagavatula at marvell.com>
Date: Thursday, June 12 2025 17:09:22 
DPDK git baseline: Repo:dpdk
  Branch: master
  CommitID:794cce6797bbec2bd290573cfafe71a5a41ea9d5

154412 --> testing pass

Upstream job id: Generic-Unit-Test-DPDK#345505

Test environment and result as below:

+------------------------------+--------------+----------------+---------------------------+------------------------------+
|         Environment          | lpm_autotest | dpdk_unit_test | cryptodev_sw_zuc_autotest | cryptodev_sw_snow3g_autotest |
+==============================+==============+================+===========================+==============================+
| Ubuntu 20.04                 | PASS         | PASS           | SKIPPED                   | SKIPPED                      |
+------------------------------+--------------+----------------+---------------------------+------------------------------+
| Fedora 41 (ARM)              | SKIPPED      | PASS           | SKIPPED                   | SKIPPED                      |
+------------------------------+--------------+----------------+---------------------------+------------------------------+
| Debian GNU/Linux 12          | SKIPPED      | PASS           | SKIPPED                   | SKIPPED                      |
+------------------------------+--------------+----------------+---------------------------+------------------------------+
| CentOS Stream 9 (ARM)        | SKIPPED      | PASS           | SKIPPED                   | SKIPPED                      |
+------------------------------+--------------+----------------+---------------------------+------------------------------+
| Fedora 40 (ARM)              | SKIPPED      | PASS           | SKIPPED                   | SKIPPED                      |
+------------------------------+--------------+----------------+---------------------------+------------------------------+
| Fedora 40 (ARM Clang)        | SKIPPED      | PASS           | SKIPPED                   | SKIPPED                      |
+------------------------------+--------------+----------------+---------------------------+------------------------------+
| Fedora 41 (ARM Clang)        | SKIPPED      | PASS           | SKIPPED                   | SKIPPED                      |
+------------------------------+--------------+----------------+---------------------------+------------------------------+
| Ubuntu 22.04                 | SKIPPED      | PASS           | SKIPPED                   | SKIPPED                      |
+------------------------------+--------------+----------------+---------------------------+------------------------------+
| CentOS Stream 10 (ARM)       | SKIPPED      | PASS           | SKIPPED                   | SKIPPED                      |
+------------------------------+--------------+----------------+---------------------------+------------------------------+
| Red Hat Enterprise Linux 9.5 | SKIPPED      | PASS           | SKIPPED                   | SKIPPED                      |
+------------------------------+--------------+----------------+---------------------------+------------------------------+
| Ubuntu 24.04                 | SKIPPED      | PASS           | SKIPPED                   | SKIPPED                      |
+------------------------------+--------------+----------------+---------------------------+------------------------------+
| Debian 12 (arm)              | SKIPPED      | SKIPPED        | PASS                      | PASS                         |
+------------------------------+--------------+----------------+---------------------------+------------------------------+


Ubuntu 20.04
	Kernel: 5.4
	Compiler: gcc gcc (Ubuntu 9.4.0-1ubuntu1~20.04.2) 9.4.0

Fedora 41 (ARM)
	Kernel: Depends on container host
	Compiler: gcc 14.2.1 20240912 (Red Hat 14.2.1-3)

Debian GNU/Linux 12
	Kernel: 5.4
	Compiler: gcc gcc (Debian 12.2.0-14) 12.2.0

CentOS Stream 9 (ARM)
	Kernel: Depends on container host
	Compiler: gcc 11.5.0 20240719 (Red Hat 11.5.0-2)

Fedora 40 (ARM)
	Kernel: Depends on container host
	Compiler: gcc 14.2.1 20240912 (Red Hat 14.2.1-3)

Fedora 40 (ARM Clang)
	Kernel: Depends on container host
	Compiler: clang 18.1.8 (Fedora 18.1.8-1.fc40)

Fedora 41 (ARM Clang)
	Kernel: Depends on container host
	Compiler: clang 19.1.5 (Fedora 19.1.5-1.fc41)

Ubuntu 22.04
	Kernel: 5.4
	Compiler: gcc gcc (Ubuntu 11.4.0-1ubuntu1~22.04) 11.4.0

CentOS Stream 10 (ARM)
	Kernel: Depends on container host
	Compiler: gcc 14.2.1 20241104 (Red Hat 14.2.1-6)

Red Hat Enterprise Linux 9.5
	Kernel: 5.4
	Compiler: gcc gcc (GCC) 11.5.0 20240719 (Red Hat 11.5.0-2)

Ubuntu 24.04
	Kernel: 5.4
	Compiler: gcc gcc (Ubuntu 13.3.0-6ubuntu2~24.04) 13.3.0

Debian 12 (arm)
	Kernel: Depends on container host
	Compiler: gcc (Debian 12.2.0-14) 12.2.0

To view detailed results, visit:
https://lab.dpdk.org/results/dashboard/patchsets/33404/

UNH-IOL DPDK Community Lab

To manage your email subscriptions, visit: 
https://lab.dpdk.org/results/dashboard/preferences/subscriptions/


More information about the test-report mailing list