|SUCCESS| pw154427 [PATCH] common/mlx5: fix dependency detection on

dpdklab at iol.unh.edu dpdklab at iol.unh.edu
Fri Jun 13 12:48:24 CEST 2025


Test-Label: iol-compile-amd64-testing
Test-Status: SUCCESS
http://dpdk.org/patch/154427

_Testing PASS_

Submitter: David Marchand <david.marchand at redhat.com>
Date: Friday, June 13 2025 08:10:18 
DPDK git baseline: Repo:dpdk
  Branch: master
  CommitID:77ba8d12251b203a4ec69a569c2f2f07edb7b1e8

154427 --> testing pass

Upstream job id: Windows-Compile-DPDK-Native#29024

Test environment and result as below:

+---------------------+-------------------------+-------------------+--------------------+----------------------+
|     Environment     | dpdk_llvm_clang_compile | dpdk_msvc_compile | dpdk_meson_compile | dpdk_mingw64_compile |
+=====================+=========================+===================+====================+======================+
| Windows Server 2022 | PASS                    | PASS              | SKIPPED            | PASS                 |
+---------------------+-------------------------+-------------------+--------------------+----------------------+
| FreeBSD 14.2        | SKIPPED                 | SKIPPED           | PASS               | SKIPPED              |
+---------------------+-------------------------+-------------------+--------------------+----------------------+


Windows Server 2022
	Kernel: 10.0.20348.2031
	Compiler: clang 15.0.7, gcc 14.1.0 (MinGW), and MSVC VS 19.39.33521

FreeBSD 14.2
	Kernel: 14.2-RELEASE
	Compiler: clang 18.1.6

To view detailed results, visit:
https://lab.dpdk.org/results/dashboard/patchsets/33408/

UNH-IOL DPDK Community Lab

To manage your email subscriptions, visit: 
https://lab.dpdk.org/results/dashboard/preferences/subscriptions/


More information about the test-report mailing list