|SUCCESS| pw154427 [PATCH] common/mlx5: fix dependency detection on

dpdklab at iol.unh.edu dpdklab at iol.unh.edu
Fri Jun 13 18:18:23 CEST 2025


Test-Label: iol-unit-arm64-testing
Test-Status: SUCCESS
http://dpdk.org/patch/154427

_Testing PASS_

Submitter: David Marchand <david.marchand at redhat.com>
Date: Friday, June 13 2025 08:10:18 
DPDK git baseline: Repo:dpdk
  Branch: master
  CommitID:77ba8d12251b203a4ec69a569c2f2f07edb7b1e8

154427 --> testing pass

Upstream job id: Generic-Unit-Test-DPDK#345766

Test environment and result as below:

+------------------------------+----------------+------------------------------+---------------------------+--------------+
|         Environment          | dpdk_unit_test | cryptodev_sw_snow3g_autotest | cryptodev_sw_zuc_autotest | lpm_autotest |
+==============================+================+==============================+===========================+==============+
| CentOS Stream 9 (ARM)        | PASS           | SKIPPED                      | SKIPPED                   | SKIPPED      |
+------------------------------+----------------+------------------------------+---------------------------+--------------+
| Debian GNU/Linux 12          | PASS           | SKIPPED                      | SKIPPED                   | SKIPPED      |
+------------------------------+----------------+------------------------------+---------------------------+--------------+
| CentOS Stream 10 (ARM)       | PASS           | SKIPPED                      | SKIPPED                   | SKIPPED      |
+------------------------------+----------------+------------------------------+---------------------------+--------------+
| Fedora 40 (ARM)              | PASS           | SKIPPED                      | SKIPPED                   | SKIPPED      |
+------------------------------+----------------+------------------------------+---------------------------+--------------+
| Fedora 41 (ARM)              | PASS           | SKIPPED                      | SKIPPED                   | SKIPPED      |
+------------------------------+----------------+------------------------------+---------------------------+--------------+
| Red Hat Enterprise Linux 9.5 | PASS           | SKIPPED                      | SKIPPED                   | SKIPPED      |
+------------------------------+----------------+------------------------------+---------------------------+--------------+
| Fedora 40 (ARM Clang)        | PASS           | SKIPPED                      | SKIPPED                   | SKIPPED      |
+------------------------------+----------------+------------------------------+---------------------------+--------------+
| Fedora 41 (ARM Clang)        | PASS           | SKIPPED                      | SKIPPED                   | SKIPPED      |
+------------------------------+----------------+------------------------------+---------------------------+--------------+
| Ubuntu 20.04                 | PASS           | SKIPPED                      | SKIPPED                   | PASS         |
+------------------------------+----------------+------------------------------+---------------------------+--------------+
| Ubuntu 22.04                 | PASS           | SKIPPED                      | SKIPPED                   | SKIPPED      |
+------------------------------+----------------+------------------------------+---------------------------+--------------+
| Ubuntu 24.04                 | PASS           | SKIPPED                      | SKIPPED                   | SKIPPED      |
+------------------------------+----------------+------------------------------+---------------------------+--------------+
| Debian 12 (arm)              | SKIPPED        | PASS                         | PASS                      | SKIPPED      |
+------------------------------+----------------+------------------------------+---------------------------+--------------+


CentOS Stream 9 (ARM)
	Kernel: Depends on container host
	Compiler: gcc 11.5.0 20240719 (Red Hat 11.5.0-2)

Debian GNU/Linux 12
	Kernel: 5.4
	Compiler: gcc gcc (Debian 12.2.0-14) 12.2.0

CentOS Stream 10 (ARM)
	Kernel: Depends on container host
	Compiler: gcc 14.2.1 20241104 (Red Hat 14.2.1-6)

Fedora 40 (ARM)
	Kernel: Depends on container host
	Compiler: gcc 14.2.1 20240912 (Red Hat 14.2.1-3)

Fedora 41 (ARM)
	Kernel: Depends on container host
	Compiler: gcc 14.2.1 20240912 (Red Hat 14.2.1-3)

Red Hat Enterprise Linux 9.5
	Kernel: 5.4
	Compiler: gcc gcc (GCC) 11.5.0 20240719 (Red Hat 11.5.0-2)

Fedora 40 (ARM Clang)
	Kernel: Depends on container host
	Compiler: clang 18.1.8 (Fedora 18.1.8-1.fc40)

Fedora 41 (ARM Clang)
	Kernel: Depends on container host
	Compiler: clang 19.1.5 (Fedora 19.1.5-1.fc41)

Ubuntu 20.04
	Kernel: 5.4
	Compiler: gcc gcc (Ubuntu 9.4.0-1ubuntu1~20.04.2) 9.4.0

Ubuntu 22.04
	Kernel: 5.4
	Compiler: gcc gcc (Ubuntu 11.4.0-1ubuntu1~22.04) 11.4.0

Ubuntu 24.04
	Kernel: 5.4
	Compiler: gcc gcc (Ubuntu 13.3.0-6ubuntu2~24.04) 13.3.0

Debian 12 (arm)
	Kernel: Depends on container host
	Compiler: gcc (Debian 12.2.0-14) 12.2.0

To view detailed results, visit:
https://lab.dpdk.org/results/dashboard/patchsets/33408/

UNH-IOL DPDK Community Lab

To manage your email subscriptions, visit: 
https://lab.dpdk.org/results/dashboard/preferences/subscriptions/


More information about the test-report mailing list