|WARNING| pw154471 [PATCH] [v2] buildtools: allow a different minimu

dpdklab at iol.unh.edu dpdklab at iol.unh.edu
Mon Jun 16 21:04:59 CEST 2025


Test-Label: iol-compile-amd64-testing
Test-Status: WARNING
http://dpdk.org/patch/154471

_Testing issues_

Submitter: Andre Muezerie <andremue at linux.microsoft.com>
Date: Monday, June 16 2025 15:31:11 
DPDK git baseline: Repo:dpdk
  Branch: master
  CommitID:794cce6797bbec2bd290573cfafe71a5a41ea9d5

154471 --> testing issues

Upstream job id: Generic-DPDK-Compile-Meson#398169

Test environment and result as below:

+-------------------------------+--------------------+-------------------+------------------+
|          Environment          | dpdk_meson_compile | dpdk_compile_spdk | dpdk_compile_ovs |
+===============================+====================+===================+==================+
| CentOS Stream 10              | PASS               | SKIPPED           | SKIPPED          |
+-------------------------------+--------------------+-------------------+------------------+
| Debian GNU/Linux 12           | PASS               | PASS              | SKIPPED          |
+-------------------------------+--------------------+-------------------+------------------+
| CentOS Stream 9               | PASS               | PASS              | SKIPPED          |
+-------------------------------+--------------------+-------------------+------------------+
| Fedora 40                     | PASS               | PASS              | SKIPPED          |
+-------------------------------+--------------------+-------------------+------------------+
| Fedora 41 (Clang)             | PASS               | WARN              | PASS             |
+-------------------------------+--------------------+-------------------+------------------+
| Fedora 40 (Clang)             | PASS               | WARN              | SKIPPED          |
+-------------------------------+--------------------+-------------------+------------------+
| openSUSE Leap 15.6            | PASS               | SKIPPED           | SKIPPED          |
+-------------------------------+--------------------+-------------------+------------------+
| Red Hat Enterprise Linux 8.10 | PASS               | SKIPPED           | SKIPPED          |
+-------------------------------+--------------------+-------------------+------------------+
| Red Hat Enterprise Linux 9.5  | PASS               | SKIPPED           | SKIPPED          |
+-------------------------------+--------------------+-------------------+------------------+
| Fedora 41                     | PASS               | PASS              | PASS             |
+-------------------------------+--------------------+-------------------+------------------+
| Ubuntu 22.04                  | PASS               | PASS              | SKIPPED          |
+-------------------------------+--------------------+-------------------+------------------+
| Alpine                        | PASS               | SKIPPED           | SKIPPED          |
+-------------------------------+--------------------+-------------------+------------------+
| Ubuntu 24.04                  | PASS               | PASS              | PASS             |
+-------------------------------+--------------------+-------------------+------------------+
| Ubuntu 20.04                  | PASS               | SKIPPED           | SKIPPED          |
+-------------------------------+--------------------+-------------------+------------------+
| FreeBSD 14.2                  | PASS               | SKIPPED           | SKIPPED          |
+-------------------------------+--------------------+-------------------+------------------+

==== 20 line log output for Fedora 40 (Clang) (dpdk_compile_spdk): ====
 --- Failed to get log output --- 
==== End log output ====

CentOS Stream 10
	Kernel: Depends on container host
	Compiler: gcc 14.2.1 20241104 (Red Hat 14.2.1-6)

Debian GNU/Linux 12
	Kernel: 5.15
	Compiler: gcc gcc (Debian 12.2.0-14) 12.2.0

CentOS Stream 9
	Kernel: Depends on container host
	Compiler: gcc 11.5.0 20240719 (Red Hat 11.5.0-2)

Fedora 40
	Kernel: Depends on container host
	Compiler: gcc 14.2.1 20240912 (Red Hat 14.2.1-3)

Fedora 41 (Clang)
	Kernel: Depends on container host
	Compiler: clang 19.1.5 (Fedora 19.1.5-1.fc41)

Fedora 40 (Clang)
	Kernel: Depends on container host
	Compiler: clang 18.1.8 (Fedora 18.1.8-1.fc40)

openSUSE Leap 15.6
	Kernel: 5.15
	Compiler: gcc gcc (SUSE Linux) 7.5.0

Red Hat Enterprise Linux 8.10
	Kernel: 5.15
	Compiler: gcc gcc (GCC) 8.5.0 20210514 (Red Hat 8.5.0-22)

Red Hat Enterprise Linux 9.5
	Kernel: 5.15
	Compiler: gcc gcc (GCC) 11.5.0 20240719 (Red Hat 11.5.0-2)

Fedora 41
	Kernel: Depends on container host
	Compiler: gcc 14.2.1 20240912 (Red Hat 14.2.1-3)

Ubuntu 22.04
	Kernel: 5.15
	Compiler: gcc gcc (Ubuntu 11.4.0-1ubuntu1~22.04) 11.4.0

Alpine
	Kernel: Depends on container host
	Compiler: gcc (Alpine 14.2.0) 14.2.0

Ubuntu 24.04
	Kernel: 5.15
	Compiler: gcc gcc (Ubuntu 13.3.0-6ubuntu2~24.04) 13.3.0

Ubuntu 20.04
	Kernel: 5.15
	Compiler: gcc gcc (Ubuntu 9.4.0-1ubuntu1~20.04.2) 9.4.0

FreeBSD 14.2
	Kernel: 14.2-RELEASE
	Compiler: clang 18.1.6

To view detailed results, visit:
https://lab.dpdk.org/results/dashboard/patchsets/33423/

UNH-IOL DPDK Community Lab

To manage your email subscriptions, visit: 
https://lab.dpdk.org/results/dashboard/preferences/subscriptions/


More information about the test-report mailing list