|SUCCESS| pw154541-154547 [PATCH] [v3,7/7] event/dlb2: fix default c

dpdklab at iol.unh.edu dpdklab at iol.unh.edu
Wed Jun 18 08:46:31 CEST 2025


Test-Label: iol-unit-arm64-testing
Test-Status: SUCCESS
http://dpdk.org/patch/154547

_Testing PASS_

Submitter: Pravin Pathak <pravin.pathak at intel.com>
Date: Tuesday, June 17 2025 18:26:30 
DPDK git baseline: Repo:dpdk
  Branch: master
  CommitID:607db1754a6cf933747273355b98fb5fce0be428

154541-154547 --> testing pass

Upstream job id: Generic-Unit-Test-DPDK#347013

Test environment and result as below:

+------------------------------+----------------+---------------------------+------------------------------+--------------+
|         Environment          | dpdk_unit_test | cryptodev_sw_zuc_autotest | cryptodev_sw_snow3g_autotest | lpm_autotest |
+==============================+================+===========================+==============================+==============+
| CentOS Stream 9 (ARM)        | PASS           | SKIPPED                   | SKIPPED                      | SKIPPED      |
+------------------------------+----------------+---------------------------+------------------------------+--------------+
| CentOS Stream 10 (ARM)       | PASS           | SKIPPED                   | SKIPPED                      | SKIPPED      |
+------------------------------+----------------+---------------------------+------------------------------+--------------+
| Debian GNU/Linux 12          | PASS           | SKIPPED                   | SKIPPED                      | SKIPPED      |
+------------------------------+----------------+---------------------------+------------------------------+--------------+
| Fedora 40 (ARM)              | PASS           | SKIPPED                   | SKIPPED                      | SKIPPED      |
+------------------------------+----------------+---------------------------+------------------------------+--------------+
| Fedora 40 (ARM Clang)        | PASS           | SKIPPED                   | SKIPPED                      | SKIPPED      |
+------------------------------+----------------+---------------------------+------------------------------+--------------+
| Fedora 41 (ARM)              | PASS           | SKIPPED                   | SKIPPED                      | SKIPPED      |
+------------------------------+----------------+---------------------------+------------------------------+--------------+
| Fedora Linux 41              | PASS           | SKIPPED                   | SKIPPED                      | SKIPPED      |
+------------------------------+----------------+---------------------------+------------------------------+--------------+
| Red Hat Enterprise Linux 9.5 | PASS           | SKIPPED                   | SKIPPED                      | SKIPPED      |
+------------------------------+----------------+---------------------------+------------------------------+--------------+
| Ubuntu 22.04                 | PASS           | SKIPPED                   | SKIPPED                      | SKIPPED      |
+------------------------------+----------------+---------------------------+------------------------------+--------------+
| Ubuntu 20.04                 | PASS           | SKIPPED                   | SKIPPED                      | PASS         |
+------------------------------+----------------+---------------------------+------------------------------+--------------+
| Ubuntu 24.04                 | PASS           | SKIPPED                   | SKIPPED                      | SKIPPED      |
+------------------------------+----------------+---------------------------+------------------------------+--------------+
| Debian 12 (arm)              | SKIPPED        | PASS                      | PASS                         | SKIPPED      |
+------------------------------+----------------+---------------------------+------------------------------+--------------+


CentOS Stream 9 (ARM)
	Kernel: Depends on container host
	Compiler: gcc 11.5.0 20240719 (Red Hat 11.5.0-2)

CentOS Stream 10 (ARM)
	Kernel: Depends on container host
	Compiler: gcc 14.2.1 20241104 (Red Hat 14.2.1-6)

Debian GNU/Linux 12
	Kernel: 5.4
	Compiler: gcc gcc (Debian 12.2.0-14) 12.2.0

Fedora 40 (ARM)
	Kernel: Depends on container host
	Compiler: gcc 14.2.1 20240912 (Red Hat 14.2.1-3)

Fedora 40 (ARM Clang)
	Kernel: Depends on container host
	Compiler: clang 18.1.8 (Fedora 18.1.8-1.fc40)

Fedora 41 (ARM)
	Kernel: Depends on container host
	Compiler: gcc 14.2.1 20240912 (Red Hat 14.2.1-3)

Fedora Linux 41
	Kernel: 5.4
	Compiler: clang gcc (GCC) 14.3.1 20250523 (Red Hat 14.3.1-1)

Red Hat Enterprise Linux 9.5
	Kernel: 5.4
	Compiler: gcc gcc (GCC) 11.5.0 20240719 (Red Hat 11.5.0-2)

Ubuntu 22.04
	Kernel: 5.4
	Compiler: gcc gcc (Ubuntu 11.4.0-1ubuntu1~22.04) 11.4.0

Ubuntu 20.04
	Kernel: 5.4
	Compiler: gcc gcc (Ubuntu 9.4.0-1ubuntu1~20.04.2) 9.4.0

Ubuntu 24.04
	Kernel: 5.4
	Compiler: gcc gcc (Ubuntu 13.3.0-6ubuntu2~24.04) 13.3.0

Debian 12 (arm)
	Kernel: Depends on container host
	Compiler: gcc (Debian 12.2.0-14) 12.2.0

To view detailed results, visit:
https://lab.dpdk.org/results/dashboard/patchsets/33443/

UNH-IOL DPDK Community Lab

To manage your email subscriptions, visit: 
https://lab.dpdk.org/results/dashboard/preferences/subscriptions/


More information about the test-report mailing list