|SUCCESS| pw154370-154402 [PATCH] [v7,33/33] net/intel: add common T
dpdklab at iol.unh.edu
dpdklab at iol.unh.edu
Wed Jun 18 16:17:36 CEST 2025
Test-Label: iol-sample-apps-testing
Test-Status: SUCCESS
http://dpdk.org/patch/154402
_Testing PASS_
Submitter: Anatoly Burakov <anatoly.burakov at intel.com>
Date: Thursday, June 12 2025 11:11:39
DPDK git baseline: Repo:dpdk
Branch: master
CommitID:cbb430ccf3fc9f1369fbc70bb187322c28d278fd
154370-154402 --> testing pass
Upstream job id: Template-DTS-Pipeline#230373
Test environment and result as below:
+--------------------+----------------------+----------------------+
| Environment | compressdev_zlib_pmd | dpdk_fips_validation |
+====================+======================+======================+
| Ubuntu 22.04 | PASS | SKIPPED |
+--------------------+----------------------+----------------------+
| Ubuntu 22.04 (ARM) | PASS | SKIPPED |
+--------------------+----------------------+----------------------+
| Ubuntu 20.04 | SKIPPED | PASS |
+--------------------+----------------------+----------------------+
Ubuntu 22.04
Kernel: 5.15
Compiler: gcc gcc (Ubuntu 11.4.0-1ubuntu1~22.04) 11.4.0
Ubuntu 22.04 (ARM)
Kernel: 5.15.0-97-generic
Compiler: gcc gcc (Ubuntu 11.4.0-1ubuntu1~22.04) 11.4.0
Ubuntu 20.04
Kernel: 5.15
Compiler: gcc gcc (Ubuntu 9.4.0-1ubuntu1~20.04.2) 9.4.0
To view detailed results, visit:
https://lab.dpdk.org/results/dashboard/patchsets/33398/
UNH-IOL DPDK Community Lab
To manage your email subscriptions, visit:
https://lab.dpdk.org/results/dashboard/preferences/subscriptions/
More information about the test-report
mailing list