|SUCCESS| pw154428-154442 [PATCH] [v3,17/17] net/txgbe: add missing
dpdklab at iol.unh.edu
dpdklab at iol.unh.edu
Wed Jun 18 16:22:43 CEST 2025
Test-Label: iol-sample-apps-testing
Test-Status: SUCCESS
http://dpdk.org/patch/154442
_Testing PASS_
Submitter: Jiawen Wu <jiawenwu at trustnetic.com>
Date: Friday, June 13 2025 08:41:59
DPDK git baseline: Repo:dpdk
Branch: master
CommitID:dbeb8ae8d09387bd525353f4a5aa6ec152cddffa
154428-154442 --> testing pass
Upstream job id: Template-DTS-Pipeline#230629
Test environment and result as below:
+--------------------+----------------------+----------------------+
| Environment | compressdev_zlib_pmd | dpdk_fips_validation |
+====================+======================+======================+
| Ubuntu 22.04 | PASS | SKIPPED |
+--------------------+----------------------+----------------------+
| Ubuntu 22.04 (ARM) | PASS | SKIPPED |
+--------------------+----------------------+----------------------+
| Ubuntu 20.04 | SKIPPED | PASS |
+--------------------+----------------------+----------------------+
Ubuntu 22.04
Kernel: 5.15
Compiler: gcc gcc (Ubuntu 11.4.0-1ubuntu1~22.04) 11.4.0
Ubuntu 22.04 (ARM)
Kernel: 5.15.0-97-generic
Compiler: gcc gcc (Ubuntu 11.4.0-1ubuntu1~22.04) 11.4.0
Ubuntu 20.04
Kernel: 5.15
Compiler: gcc gcc (Ubuntu 9.4.0-1ubuntu1~20.04.2) 9.4.0
To view detailed results, visit:
https://lab.dpdk.org/results/dashboard/patchsets/33409/
UNH-IOL DPDK Community Lab
To manage your email subscriptions, visit:
https://lab.dpdk.org/results/dashboard/preferences/subscriptions/
More information about the test-report
mailing list