|SUCCESS| pw154518-154519 [PATCH] [v1,2/2] net/zxdh: add support flo
    dpdklab at iol.unh.edu 
    dpdklab at iol.unh.edu
       
    Wed Jun 18 16:36:37 CEST 2025
    
    
  
Test-Label: iol-sample-apps-testing
Test-Status: SUCCESS
http://dpdk.org/patch/154519
_Testing PASS_
Submitter: Bingbin Chen <chen.bingbin at zte.com.cn>
Date: Tuesday, June 17 2025 09:32:48 
DPDK git baseline: Repo:dpdk
  Branch: master
  CommitID:dbeb8ae8d09387bd525353f4a5aa6ec152cddffa
154518-154519 --> testing pass
Upstream job id: Template-DTS-Pipeline#231277
Test environment and result as below:
+--------------------+----------------------+----------------------+
|    Environment     | compressdev_zlib_pmd | dpdk_fips_validation |
+====================+======================+======================+
| Ubuntu 22.04       | PASS                 | SKIPPED              |
+--------------------+----------------------+----------------------+
| Ubuntu 22.04 (ARM) | PASS                 | SKIPPED              |
+--------------------+----------------------+----------------------+
| Ubuntu 20.04       | SKIPPED              | PASS                 |
+--------------------+----------------------+----------------------+
Ubuntu 22.04
	Kernel: 5.15
	Compiler: gcc gcc (Ubuntu 11.4.0-1ubuntu1~22.04) 11.4.0
Ubuntu 22.04 (ARM)
	Kernel: 5.15.0-97-generic
	Compiler: gcc gcc (Ubuntu 11.4.0-1ubuntu1~22.04) 11.4.0
Ubuntu 20.04
	Kernel: 5.15
	Compiler: gcc gcc (Ubuntu 9.4.0-1ubuntu1~20.04.2) 9.4.0
To view detailed results, visit:
https://lab.dpdk.org/results/dashboard/patchsets/33433/
UNH-IOL DPDK Community Lab
To manage your email subscriptions, visit: 
https://lab.dpdk.org/results/dashboard/preferences/subscriptions/
    
    
More information about the test-report
mailing list