|SUCCESS| pw154607-154608 [PATCH] [v3,2/2] crypto/uadk: use async mo

dpdklab at iol.unh.edu dpdklab at iol.unh.edu
Fri Jun 20 07:05:16 CEST 2025


Test-Label: iol-unit-arm64-testing
Test-Status: SUCCESS
http://dpdk.org/patch/154608

_Testing PASS_

Submitter: Zhangfei Gao <zhangfei.gao at linaro.org>
Date: Friday, June 20 2025 03:35:15 
DPDK git baseline: Repo:dpdk
  Branch: master
  CommitID:0c62b5fc83da79ef1ceb9bf75b3e28081cc19b43

154607-154608 --> testing pass

Upstream job id: Aarch32-Unit-Test#6628

Test environment and result as below:

+------------------------------+--------------+------------------------------+---------------------------+----------------+
|         Environment          | lpm_autotest | cryptodev_sw_snow3g_autotest | cryptodev_sw_zuc_autotest | dpdk_unit_test |
+==============================+==============+==============================+===========================+================+
| Ubuntu 20.04                 | PASS         | SKIPPED                      | SKIPPED                   | PASS           |
+------------------------------+--------------+------------------------------+---------------------------+----------------+
| Debian 12 (arm)              | SKIPPED      | PASS                         | PASS                      | SKIPPED        |
+------------------------------+--------------+------------------------------+---------------------------+----------------+
| Debian GNU/Linux 12          | SKIPPED      | SKIPPED                      | SKIPPED                   | PASS           |
+------------------------------+--------------+------------------------------+---------------------------+----------------+
| Fedora Linux 40              | SKIPPED      | SKIPPED                      | SKIPPED                   | PASS           |
+------------------------------+--------------+------------------------------+---------------------------+----------------+
| CentOS Stream 9              | SKIPPED      | SKIPPED                      | SKIPPED                   | PASS           |
+------------------------------+--------------+------------------------------+---------------------------+----------------+
| CentOS Stream 10             | SKIPPED      | SKIPPED                      | SKIPPED                   | PASS           |
+------------------------------+--------------+------------------------------+---------------------------+----------------+
| Fedora Linux 41              | SKIPPED      | SKIPPED                      | SKIPPED                   | PASS           |
+------------------------------+--------------+------------------------------+---------------------------+----------------+
| Ubuntu 22.04                 | SKIPPED      | SKIPPED                      | SKIPPED                   | PASS           |
+------------------------------+--------------+------------------------------+---------------------------+----------------+
| Ubuntu 24.04                 | SKIPPED      | SKIPPED                      | SKIPPED                   | PASS           |
+------------------------------+--------------+------------------------------+---------------------------+----------------+
| Red Hat Enterprise Linux 9.5 | SKIPPED      | SKIPPED                      | SKIPPED                   | PASS           |
+------------------------------+--------------+------------------------------+---------------------------+----------------+


Ubuntu 20.04
	Kernel: 5.4
	Compiler: gcc gcc (Ubuntu 9.4.0-1ubuntu1~20.04.2) 9.4.0

Debian 12 (arm)
	Kernel: Depends on container host
	Compiler: gcc (Debian 12.2.0-14) 12.2.0

Debian GNU/Linux 12
	Kernel: 5.4
	Compiler: gcc gcc (Debian 12.2.0-14+deb12u1) 12.2.0

Fedora Linux 40
	Kernel: 5.4
	Compiler: gcc gcc (GCC) 14.2.1 20240912 (Red Hat 14.2.1-3)

CentOS Stream 9
	Kernel: 5.4
	Compiler: gcc gcc (GCC) 11.5.0 20240719 (Red Hat 11.5.0-7)

CentOS Stream 10
	Kernel: 5.4
	Compiler: gcc gcc (GCC) 14.2.1 20250110 (Red Hat 14.2.1-8)

Fedora Linux 41
	Kernel: 5.4
	Compiler: clang gcc (GCC) 14.3.1 20250523 (Red Hat 14.3.1-1)

Ubuntu 22.04
	Kernel: 5.4
	Compiler: gcc gcc (Ubuntu 11.4.0-1ubuntu1~22.04) 11.4.0

Ubuntu 24.04
	Kernel: 5.4
	Compiler: gcc gcc (Ubuntu 13.3.0-6ubuntu2~24.04) 13.3.0

Red Hat Enterprise Linux 9.5
	Kernel: 5.4
	Compiler: gcc gcc (GCC) 11.5.0 20240719 (Red Hat 11.5.0-2)

To view detailed results, visit:
https://lab.dpdk.org/results/dashboard/patchsets/33467/

UNH-IOL DPDK Community Lab

To manage your email subscriptions, visit: 
https://lab.dpdk.org/results/dashboard/preferences/subscriptions/


More information about the test-report mailing list