|SUCCESS| pw154670 [PATCH] [v2] cpp: Fix missing extern "C" closing

dpdklab at iol.unh.edu dpdklab at iol.unh.edu
Wed Jun 25 02:57:07 CEST 2025


Test-Label: iol-compile-amd64-testing
Test-Status: SUCCESS
http://dpdk.org/patch/154670

_Testing PASS_

Submitter: Edvard Fagerholm <edvard.fagerholm at gmail.com>
Date: Tuesday, June 24 2025 19:58:10 
DPDK git baseline: Repo:dpdk
  Branch: master
  CommitID:6890ee7ba76e92745d6c61b3b6b9d757ebaaa89d

154670 --> testing pass

Upstream job id: Windows-Compile-DPDK-Native#29307

Test environment and result as below:

+---------------------+--------------------+-------------------+-------------------------+
|     Environment     | dpdk_meson_compile | dpdk_msvc_compile | dpdk_llvm_clang_compile |
+=====================+====================+===================+=========================+
| Ubuntu 20.04        | PASS               | SKIPPED           | SKIPPED                 |
+---------------------+--------------------+-------------------+-------------------------+
| Windows Server 2022 | SKIPPED            | PASS              | PASS                    |
+---------------------+--------------------+-------------------+-------------------------+


Ubuntu 20.04
	Kernel: 4.19
	Compiler: gcc gcc (Ubuntu 9.4.0-1ubuntu1~20.04.2) 9.4.0

Windows Server 2022
	Kernel: 10.0.20348.2031
	Compiler: clang 15.0.7, gcc 14.1.0 (MinGW), and MSVC VS 19.39.33521

To view detailed results, visit:
https://lab.dpdk.org/results/dashboard/patchsets/33494/

UNH-IOL DPDK Community Lab

To manage your email subscriptions, visit: 
https://lab.dpdk.org/results/dashboard/preferences/subscriptions/


More information about the test-report mailing list