|SUCCESS| pw154672-154686 [PATCH] [V2,18/18] drivers/net: add hinic3
dpdklab at iol.unh.edu
dpdklab at iol.unh.edu
Wed Jun 25 08:30:45 CEST 2025
Test-Label: iol-compile-amd64-testing
Test-Status: SUCCESS
http://dpdk.org/patch/154686
_Testing PASS_
Submitter: Feifei Wang <wff_light at vip.163.com>
Date: Wednesday, June 25 2025 02:28:14
DPDK git baseline: Repo:dpdk
Branch: master
CommitID:62a35bbb247e608e235a04ff2941488bc1a78941
154672-154686 --> testing pass
Upstream job id: Windows-Compile-DPDK-VS#6142
Test environment and result as below:
+---------------------+--------------------+-------------------+
| Environment | dpdk_meson_compile | dpdk_msvc_compile |
+=====================+====================+===================+
| Ubuntu 20.04 | PASS | SKIPPED |
+---------------------+--------------------+-------------------+
| FreeBSD 14.2 | PASS | SKIPPED |
+---------------------+--------------------+-------------------+
| Windows Server 2022 | SKIPPED | PASS |
+---------------------+--------------------+-------------------+
Ubuntu 20.04
Kernel: 4.19
Compiler: gcc gcc (Ubuntu 9.4.0-1ubuntu1~20.04.2) 9.4.0
FreeBSD 14.2
Kernel: 14.2-RELEASE
Compiler: clang 18.1.6
Windows Server 2022
Kernel: 10.0.20348.2031
Compiler: clang 15.0.7, gcc 14.1.0 (MinGW), and MSVC VS 19.39.33521
To view detailed results, visit:
https://lab.dpdk.org/results/dashboard/patchsets/33495/
UNH-IOL DPDK Community Lab
To manage your email subscriptions, visit:
https://lab.dpdk.org/results/dashboard/preferences/subscriptions/
More information about the test-report
mailing list