|SUCCESS| pw154717 [PATCH] [v2] net/mlx5: support NUMA node fallback
dpdklab at iol.unh.edu
dpdklab at iol.unh.edu
Wed Jun 25 19:18:48 CEST 2025
Test-Label: iol-compile-amd64-testing
Test-Status: SUCCESS
http://dpdk.org/patch/154717
_Testing PASS_
Submitter: Maayan Kashani <mkashani at nvidia.com>
Date: Wednesday, June 25 2025 15:00:22
DPDK git baseline: Repo:dpdk
Branch: master
CommitID:77ba8d12251b203a4ec69a569c2f2f07edb7b1e8
154717 --> testing pass
Upstream job id: Windows-Compile-DPDK-VS#6150
Test environment and result as below:
+---------------------+--------------------+-------------------+
| Environment | dpdk_meson_compile | dpdk_msvc_compile |
+=====================+====================+===================+
| Ubuntu 20.04 | PASS | SKIPPED |
+---------------------+--------------------+-------------------+
| FreeBSD 14.2 | PASS | SKIPPED |
+---------------------+--------------------+-------------------+
| Windows Server 2022 | SKIPPED | PASS |
+---------------------+--------------------+-------------------+
Ubuntu 20.04
Kernel: 4.19
Compiler: gcc gcc (Ubuntu 9.4.0-1ubuntu1~20.04.2) 9.4.0
FreeBSD 14.2
Kernel: 14.2-RELEASE
Compiler: clang 18.1.6
Windows Server 2022
Kernel: 10.0.20348.2031
Compiler: clang 15.0.7, gcc 14.1.0 (MinGW), and MSVC VS 19.39.33521
To view detailed results, visit:
https://lab.dpdk.org/results/dashboard/patchsets/33503/
UNH-IOL DPDK Community Lab
To manage your email subscriptions, visit:
https://lab.dpdk.org/results/dashboard/preferences/subscriptions/
More information about the test-report
mailing list