|SUCCESS| pw154750-154751 [PATCH] [v3,2/2] dts: add flow validation
    dpdklab at iol.unh.edu 
    dpdklab at iol.unh.edu
       
    Thu Jun 26 23:22:15 CEST 2025
    
    
  
Test-Label: iol-compile-amd64-testing
Test-Status: SUCCESS
http://dpdk.org/patch/154751
_Testing PASS_
Submitter: Dean Marx <dmarx at iol.unh.edu>
Date: Thursday, June 26 2025 19:56:17 
DPDK git baseline: Repo:dpdk
  Branch: master
  CommitID:211e4bb686c082f604af36410988420673b88fdb
154750-154751 --> testing pass
Upstream job id: Windows-Compile-DPDK-VS#6168
Test environment and result as below:
+---------------------+--------------------+-------------------+
|     Environment     | dpdk_meson_compile | dpdk_msvc_compile |
+=====================+====================+===================+
| FreeBSD 14.2        | PASS               | SKIPPED           |
+---------------------+--------------------+-------------------+
| Ubuntu 20.04        | PASS               | SKIPPED           |
+---------------------+--------------------+-------------------+
| Windows Server 2022 | SKIPPED            | PASS              |
+---------------------+--------------------+-------------------+
FreeBSD 14.2
	Kernel: 14.2-RELEASE
	Compiler: clang 18.1.6
Ubuntu 20.04
	Kernel: 4.19
	Compiler: gcc gcc (Ubuntu 9.4.0-1ubuntu1~20.04.2) 9.4.0
Windows Server 2022
	Kernel: 10.0.20348.2031
	Compiler: clang 15.0.7, gcc 14.1.0 (MinGW), and MSVC VS 19.39.33521
To view detailed results, visit:
https://lab.dpdk.org/results/dashboard/patchsets/33516/
UNH-IOL DPDK Community Lab
To manage your email subscriptions, visit: 
https://lab.dpdk.org/results/dashboard/preferences/subscriptions/
    
    
More information about the test-report
mailing list