|SUCCESS| pw154752 [PATCH] [v2] net/gve: support gve driver on FreeB

dpdklab at iol.unh.edu dpdklab at iol.unh.edu
Fri Jun 27 00:28:20 CEST 2025


Test-Label: iol-compile-amd64-testing
Test-Status: SUCCESS
http://dpdk.org/patch/154752

_Testing PASS_

Submitter: Jasper Tran O'Leary <jtranoleary at google.com>
Date: Thursday, June 26 2025 21:19:21 
DPDK git baseline: Repo:dpdk
  Branch: master
  CommitID:ce2cf3403f2ac2c6e5eac05a43db9207e35e8b9d

154752 --> testing pass

Upstream job id: Windows-Compile-DPDK-VS#6169

Test environment and result as below:

+---------------------+--------------------+-------------------+
|     Environment     | dpdk_meson_compile | dpdk_msvc_compile |
+=====================+====================+===================+
| Ubuntu 20.04        | PASS               | SKIPPED           |
+---------------------+--------------------+-------------------+
| FreeBSD 14.2        | PASS               | SKIPPED           |
+---------------------+--------------------+-------------------+
| Windows Server 2022 | SKIPPED            | PASS              |
+---------------------+--------------------+-------------------+


Ubuntu 20.04
	Kernel: 4.19
	Compiler: gcc gcc (Ubuntu 9.4.0-1ubuntu1~20.04.2) 9.4.0

FreeBSD 14.2
	Kernel: 14.2-RELEASE
	Compiler: clang 18.1.6

Windows Server 2022
	Kernel: 10.0.20348.2031
	Compiler: clang 15.0.7, gcc 14.1.0 (MinGW), and MSVC VS 19.39.33521

To view detailed results, visit:
https://lab.dpdk.org/results/dashboard/patchsets/33517/

UNH-IOL DPDK Community Lab

To manage your email subscriptions, visit: 
https://lab.dpdk.org/results/dashboard/preferences/subscriptions/


More information about the test-report mailing list