|SUCCESS| pw154750-154751 [PATCH] [v3,2/2] dts: add flow validation

dpdklab at iol.unh.edu dpdklab at iol.unh.edu
Fri Jun 27 03:20:44 CEST 2025


Test-Label: iol-unit-arm64-testing
Test-Status: SUCCESS
http://dpdk.org/patch/154751

_Testing PASS_

Submitter: Dean Marx <dmarx at iol.unh.edu>
Date: Thursday, June 26 2025 19:56:17 
DPDK git baseline: Repo:dpdk
  Branch: master
  CommitID:211e4bb686c082f604af36410988420673b88fdb

154750-154751 --> testing pass

Upstream job id: Generic-Unit-Test-DPDK#350041

Test environment and result as below:

+------------------------------+---------------------------+----------------+------------------------------+--------------+
|         Environment          | cryptodev_sw_zuc_autotest | dpdk_unit_test | cryptodev_sw_snow3g_autotest | lpm_autotest |
+==============================+===========================+================+==============================+==============+
| Debian 12 (arm)              | PASS                      | SKIPPED        | PASS                         | SKIPPED      |
+------------------------------+---------------------------+----------------+------------------------------+--------------+
| CentOS Stream 9              | SKIPPED                   | PASS           | SKIPPED                      | SKIPPED      |
+------------------------------+---------------------------+----------------+------------------------------+--------------+
| Debian GNU/Linux 12          | SKIPPED                   | PASS           | SKIPPED                      | SKIPPED      |
+------------------------------+---------------------------+----------------+------------------------------+--------------+
| Fedora Linux 41              | SKIPPED                   | PASS           | SKIPPED                      | SKIPPED      |
+------------------------------+---------------------------+----------------+------------------------------+--------------+
| CentOS Stream 10             | SKIPPED                   | PASS           | SKIPPED                      | SKIPPED      |
+------------------------------+---------------------------+----------------+------------------------------+--------------+
| Ubuntu 20.04                 | SKIPPED                   | PASS           | SKIPPED                      | PASS         |
+------------------------------+---------------------------+----------------+------------------------------+--------------+
| Fedora Linux 40              | SKIPPED                   | PASS           | SKIPPED                      | SKIPPED      |
+------------------------------+---------------------------+----------------+------------------------------+--------------+
| Ubuntu 22.04                 | SKIPPED                   | PASS           | SKIPPED                      | SKIPPED      |
+------------------------------+---------------------------+----------------+------------------------------+--------------+
| Red Hat Enterprise Linux 9.5 | SKIPPED                   | PASS           | SKIPPED                      | SKIPPED      |
+------------------------------+---------------------------+----------------+------------------------------+--------------+
| Ubuntu 24.04                 | SKIPPED                   | PASS           | SKIPPED                      | SKIPPED      |
+------------------------------+---------------------------+----------------+------------------------------+--------------+


Debian 12 (arm)
	Kernel: Depends on container host
	Compiler: gcc (Debian 12.2.0-14) 12.2.0

CentOS Stream 9
	Kernel: 5.4
	Compiler: gcc gcc (GCC) 11.5.0 20240719 (Red Hat 11.5.0-7)

Debian GNU/Linux 12
	Kernel: 5.4
	Compiler: gcc gcc (Debian 12.2.0-14+deb12u1) 12.2.0

Fedora Linux 41
	Kernel: 5.4
	Compiler: clang gcc (GCC) 14.3.1 20250523 (Red Hat 14.3.1-1)

CentOS Stream 10
	Kernel: 5.4
	Compiler: gcc gcc (GCC) 14.2.1 20250110 (Red Hat 14.2.1-8)

Ubuntu 20.04
	Kernel: 5.4
	Compiler: gcc gcc (Ubuntu 9.4.0-1ubuntu1~20.04.2) 9.4.0

Fedora Linux 40
	Kernel: 5.4
	Compiler: gcc gcc (GCC) 14.2.1 20240912 (Red Hat 14.2.1-3)

Ubuntu 22.04
	Kernel: 5.4
	Compiler: gcc gcc (Ubuntu 11.4.0-1ubuntu1~22.04) 11.4.0

Red Hat Enterprise Linux 9.5
	Kernel: 5.4
	Compiler: gcc gcc (GCC) 11.5.0 20240719 (Red Hat 11.5.0-2)

Ubuntu 24.04
	Kernel: 5.4
	Compiler: gcc gcc (Ubuntu 13.3.0-6ubuntu2~24.04) 13.3.0

To view detailed results, visit:
https://lab.dpdk.org/results/dashboard/patchsets/33516/

UNH-IOL DPDK Community Lab

To manage your email subscriptions, visit: 
https://lab.dpdk.org/results/dashboard/preferences/subscriptions/


More information about the test-report mailing list