|SUCCESS| pw154803 [PATCH] [v1] event/dlb2: add dequeue interrupt mo
dpdklab at iol.unh.edu
dpdklab at iol.unh.edu
Sat Jun 28 09:28:17 CEST 2025
Test-Label: iol-compile-amd64-testing
Test-Status: SUCCESS
http://dpdk.org/patch/154803
_Testing PASS_
Submitter: Pravin Pathak <pravin.pathak at intel.com>
Date: Saturday, June 28 2025 04:51:12
DPDK git baseline: Repo:dpdk
Branch: master
CommitID:ff1c2b2f81dba565a5eed8576ca4a7e956fe3886
154803 --> testing pass
Upstream job id: Windows-Compile-DPDK-Native#29411
Test environment and result as below:
+---------------------+-------------------+--------------------+-------------------------+----------------------+
| Environment | dpdk_msvc_compile | dpdk_meson_compile | dpdk_llvm_clang_compile | dpdk_mingw64_compile |
+=====================+===================+====================+=========================+======================+
| Windows Server 2022 | PASS | SKIPPED | PASS | PASS |
+---------------------+-------------------+--------------------+-------------------------+----------------------+
| FreeBSD 14.2 | SKIPPED | PASS | SKIPPED | SKIPPED |
+---------------------+-------------------+--------------------+-------------------------+----------------------+
| Ubuntu 20.04 | SKIPPED | PASS | SKIPPED | SKIPPED |
+---------------------+-------------------+--------------------+-------------------------+----------------------+
Windows Server 2022
Kernel: 10.0.20348.2031
Compiler: clang 15.0.7, gcc 14.1.0 (MinGW), and MSVC VS 19.39.33521
FreeBSD 14.2
Kernel: 14.2-RELEASE
Compiler: clang 18.1.6
Ubuntu 20.04
Kernel: 4.19
Compiler: gcc gcc (Ubuntu 9.4.0-1ubuntu1~20.04.2) 9.4.0
To view detailed results, visit:
https://lab.dpdk.org/results/dashboard/patchsets/33531/
UNH-IOL DPDK Community Lab
To manage your email subscriptions, visit:
https://lab.dpdk.org/results/dashboard/preferences/subscriptions/
More information about the test-report
mailing list