|SUCCESS| pw154840-154839 [PATCH] [v2,3/3] net/rnp: fix TSO segmenta

dpdklab at iol.unh.edu dpdklab at iol.unh.edu
Mon Jun 30 09:50:46 CEST 2025


Test-Label: iol-compile-amd64-testing
Test-Status: SUCCESS
http://dpdk.org/patch/154839

_Testing PASS_

Submitter: 11 <caowenbo at mucse.com>
Date: Monday, June 30 2025 05:57:53 
DPDK git baseline: Repo:dpdk
  Branch: master
  CommitID:798e267824a5b9018fff6e0dc37e9a9f1f73e8fb

154840-154839 --> testing pass

Upstream job id: Windows-Compile-DPDK-Native#29439

Test environment and result as below:

+---------------------+-------------------------+-------------------+--------------------+----------------------+
|     Environment     | dpdk_llvm_clang_compile | dpdk_msvc_compile | dpdk_meson_compile | dpdk_mingw64_compile |
+=====================+=========================+===================+====================+======================+
| Windows Server 2022 | PASS                    | PASS              | SKIPPED            | PASS                 |
+---------------------+-------------------------+-------------------+--------------------+----------------------+
| FreeBSD 14.2        | SKIPPED                 | SKIPPED           | PASS               | SKIPPED              |
+---------------------+-------------------------+-------------------+--------------------+----------------------+
| Ubuntu 20.04        | SKIPPED                 | SKIPPED           | PASS               | SKIPPED              |
+---------------------+-------------------------+-------------------+--------------------+----------------------+


Windows Server 2022
	Kernel: 10.0.20348.2031
	Compiler: clang 15.0.7, gcc 14.1.0 (MinGW), and MSVC VS 19.39.33521

FreeBSD 14.2
	Kernel: 14.2-RELEASE
	Compiler: clang 18.1.6

Ubuntu 20.04
	Kernel: 4.19
	Compiler: gcc gcc (Ubuntu 9.4.0-1ubuntu1~20.04.2) 9.4.0

To view detailed results, visit:
https://lab.dpdk.org/results/dashboard/patchsets/33538/

UNH-IOL DPDK Community Lab

To manage your email subscriptions, visit: 
https://lab.dpdk.org/results/dashboard/preferences/subscriptions/


More information about the test-report mailing list